BEGIN:VCALENDAR
VERSION:2.0
CALSCALE:GREGORIAN
PRODID:https://kalender.karlsruhe.de/db/termine/
METHOD:PUBLISH
BEGIN:VEVENT
UID:578314
ORGANIZER;CN=Die Spiegelfechter:MAILTO:info@spiegelfechter.de
LOCATION:Kabarett in der Orgelfabrik - die Spiegelfechter
SUMMARY:The Dolphins A‑Cappella Quintett - Bock auf Rock
DESCRIPTION;ENCODING=QUOTED-PRINTABLE:Komisches a=E2=80=91cappella-Spiel mit harmonischem Klavier-Gesang.=0D=0A=0D=0A  Un
 ter dem Vorwand des gepflegten Gesangs treffen sich =E2=80=9CThe Dolphins
 =E2=80=9D nun seit =C3=BCber 30 Jahren\, um gemeinsam Getr=C3=A4nke zu konsu
 mieren. So hat sich das Repertoire des Urgesteins der Karlsruher a=E2=80=91
 cappella-Szene im Laufe der Jahre von Barbershop =C3=BCber Comedian Harmoni
 sts zu ausgefeilten Pop-Arrangements weiterentwickelt.    The Dolphins sind
  Michael Baldauf\, Andreas H=C3=BClsheger\, Karsten Kremer\,  =0D=0A  Lars Jakobs\,
  Markus Nold\, Thomas Rohm.    Website:     the-dolphins.de        Seien Sie
  dabei. Wir freuen uns auf Sie!    =0D=0A    Eintrittspreise & Eintritt      Re
 gul=C3=A4rer Preis: 17.00 =E2=82=AC      Erm=C3=A4=C3=9Figung f=C3=BCr Sch
 =C3=BCler und Studenten: 15.00 =E2=82=AC      Solidarit=C3=A4tsticket: 25 
 =E2=82=AC      Einlass: 19:30 Uhr      Beginn: 20:15 Uhr      =0D=0A        Fre
 itag\, 30.Oktober 2025          Samstag\, 31.Oktober 2025     =20
URL:https://kalender.karlsruhe.de/db/termine/musik/the_dolphins_acappella_quintett_bock_auf_rock-3
CLASS:PUBLIC
DTSTART:20261031T201500
DTEND:20261031T220000
DTSTAMP:20260127T084357
CATEGORIES:Musik
ATTACH:https://kalender.karlsruhe.de/db/termine/musik/the_dolphins_acappella_quintett_bock_auf_rock-3/file/icon_Dolphinsklein.jpg
END:VEVENT

END:VCALENDAR
