BEGIN:VCALENDAR
VERSION:2.0
CALSCALE:GREGORIAN
PRODID:https://kalender.karlsruhe.de/db/termine/
METHOD:PUBLISH
BEGIN:VEVENT
UID:580486
ORGANIZER;CN=PIANO-PODIUM Karlsruhe e.V.:MAILTO:info@piano-podium.de
LOCATION:Musentempel Karlsruhe
SUMMARY:Themenkonzert mit Malwettbewerb „NATUR und NATURERSCHEINUNGEN“
DESCRIPTION;ENCODING=QUOTED-PRINTABLE:Eintritt frei!=0D=0A=0D=0A
URL:https://kalender.karlsruhe.de/db/termine/musik/themenkonzert_mit_malwettbewerb_natur
CLASS:PUBLIC
DTSTART:20261017T180000
DTEND:20261017T200000
DTSTAMP:20260330T124439
CATEGORIES:Musik
ATTACH:https://kalender.karlsruhe.de/db/termine/musik/themenkonzert_mit_malwettbewerb_natur/file/icon_PiPo_Logo.jpg
END:VEVENT

END:VCALENDAR
