BEGIN:VCALENDAR
VERSION:2.0
CALSCALE:GREGORIAN
PRODID:https://kalender.karlsruhe.de/db/termine/
METHOD:PUBLISH
BEGIN:VEVENT
UID:580856
ORGANIZER;CN=KlangKunst in der Hemingway Lounge e. V.:MAILTO:presse@hemingwaylounge.de
LOCATION:Hemingway Lounge in Karlsruhe
SUMMARY:Thilo Wagner Trio . 40 Jahre Jubilee .
DESCRIPTION;ENCODING=QUOTED-PRINTABLE:Thilo Wagner (p) . Jean Philippe Wadle (b) . Gregor Beck (d)=0D=0A=0D=0A  Der Piani
 st     Thilo Wagner    geh=C3=B6rt zu den pr=C3=A4genden Pers=C3=B6nlichkei
 ten des europ=C3=A4ischen Swingpianos. Mit seinem kraftvollen\, =E2=80=9Eh
 =C3=B6llisch swingenden=E2=80=9C Stil verbindet er virtuose Technik mit gro
 =C3=9Fer musikalischer Ausdruckskraft. Inspiriert von Pianisten wie Erroll 
 Garner und Oscar Peterson entwickelte er eine eigene Handschrift\, die durch
  rasante L=C3=A4ufe\, melodische Eleganz und tiefen Bluesgroove gekennzeichn
 et ist. Gemeinsam mit     Jean Philippe Wadle    am Bass und     Gregor Bec
 k    am Schlagzeug pr=C3=A4sentiert er einen klassischen Jazztrio-Sound\, de
 r von pr=C3=A4zisem Zusammenspiel\, rhythmischer Energie und improvisatorisc
 her Freiheit lebt. Der in Stuttgart lebende Pianist begann bereits im Kinde
 salter mit dem Klavierspiel und erhielt eine umfassende klassische Ausbildu
 ng\, bevor er fr=C3=BCh seinen Weg in den Jazz fand. Internationale Tourneen
  f=C3=BChrten ihn durch Europa sowie nach Nord- und S=C3=BCdamerika\, und za
 hlreiche Einspielungen dokumentieren seine Zusammenarbeit mit namhaften Mus
 ikern der internationalen Jazzszene. Das Trio steht f=C3=BCr lebendigen Swi
 ng\, virtuose Improvisation und eine tief verwurzelte Tradition des klassisc
 hen Jazz. (k =20
URL:https://kalender.karlsruhe.de/db/termine/musik/thilo_wagner_trio_40_jahre_jubilee
CLASS:PUBLIC
DTSTART:20260612T200000
DTEND:20260612T223000
DTSTAMP:20260415T084827
CATEGORIES:Musik
ATTACH:https://kalender.karlsruhe.de/db/termine/musik/thilo_wagner_trio_40_jahre_jubilee/file/icon_260612_HL_pic1_Manfred Rinderspacher.jpg
END:VEVENT

END:VCALENDAR
