BEGIN:VCALENDAR
VERSION:2.0
CALSCALE:GREGORIAN
PRODID:https://kalender.karlsruhe.de/db/termine/
METHOD:PUBLISH
BEGIN:VEVENT
UID:580995
ORGANIZER;CN=Messe-Karlsruhe Veranstaltungen:MAILTO:
LOCATION:Konzerthaus / Kongresszentrum Karlsruhe
SUMMARY:Titanic - Unendliche Liebe 2026
DESCRIPTION;ENCODING=QUOTED-PRINTABLE:=C2=A0=0D=0A=0D=0A      TITANIC =E2=80=93 Eine unendliche Liebe    =0D=0A      =0D=0A   Ein
 e musikalische\, theatralische und multimediale Show\, inspiriert vom ber=C3
 =BChmten Film und der tragischen Geschichte des legend=C3=A4ren Ozeandampfe
 rs\, die seit =C3=BCber einem Jahrhundert Menschen auf der ganzen Welt beweg
 t.        Im Mittelpunkt der Handlung stehen Rosa und Jack sowie ihre Mitre
 isenden:   =0D=0A   Schicksale\, die sich zwischen Liebe\, Freundschaft und Hoffn
 ung kreuzen und durch den dramatischen Zusammensto=C3=9F mit einem Eisberg 
 und den anschlie=C3=9Fenden Untergang der Titanic j=C3=A4h beendet werden. 
   =0D=0A   Die Inszenierung verbindet Musik\, Gesang und Tanz mit spektakul=C3
 =A4ren\, dreidimensionalen und interaktiven Projektionen\, die auch mithilfe 
 k=C3=BCnstlicher Intelligenz erstellt werden und immersive Welten erschaffe
 n. Bis zu 60 K=C3=BCnstler auf der B=C3=BChne sorgen f=C3=BCr ein intensive
 s und mitrei=C3=9Fendes Erlebnis.        Dank des virtuellen B=C3=BChnenkon
 zepts wird das Publikum mitten in eine romantische und zugleich tragisch-ep
 ische Geschichte versetzt.   =0D=0A   Die Show wird in deutscher Sprache aufgef
 =C3=BChrt.          Wichtige Informationen zur Anreise und Parkm=C3=B6glich
 keiten    =0D=0A      =0D=0A   Bei Gro=C3=9Fveranstaltungen oder parallel stattfind
 enden Veranstaltungen kann es zu Engp=C3=A4ssen bei der Verf=C3=BCgbarkeit 
 unserer Parkpl=C3=A4tze kommen. Bitte beachten Sie\, dass das Verkehrsleitsy
 stem die Belegung der Tiefgarage nicht in Echtzeit anzeigt. Daher empfehlen
  wir\, fr=C3=BChzeitig anzureisen.   =0D=0A   Sollte die Tiefgarage voll sein\, e
 mpfehlen wir die Nutzung nahegelegener Parkh=C3=A4user.   =0D=0A   F=C3=BCr ein
 e stressfreie Anreise raten wir zudem\, die =C3=B6ffentlichen Verkehrsmittel
  zu nutzen =E2=80=93 die Haltestellen befinden sich direkt an unseren Geb
 =C3=A4uden und sind in weniger als 3 Minuten zu Fu=C3=9F erreichbar. Auch d
 as Fahrrad stellt eine praktische und umweltfreundliche Option dar.        
 Vielen Dank f=C3=BCr Ihr Verst=C3=A4ndnis. Wir w=C3=BCnschen Ihnen eine ang
 enehme Anreise und viel Freude bei der Veranstaltung!   =0D=0A       Ihr Team d
 er Messe Karlsruhe        Einlass: 19:00 Uhr Beginn: 20:00 Uhr =20
URL:https://kalender.karlsruhe.de/db/termine/musik/titanic_unendliche_liebe2026n
CLASS:PUBLIC
DTSTART:20261031T000000
DTEND:20261101T000000
DTSTAMP:20260420T175601
CATEGORIES:Musik
ATTACH:https://kalender.karlsruhe.de/db/termine/
END:VEVENT

END:VCALENDAR
