BEGIN:VCALENDAR
VERSION:2.0
CALSCALE:GREGORIAN
PRODID:https://kalender.karlsruhe.de/db/termine/
METHOD:PUBLISH
BEGIN:VEVENT
UID:576645
ORGANIZER;CN=Substage Karlsruhe e.V.:MAILTO:info@substage.de
LOCATION:Substage Karlsruhe e.V.
SUMMARY:Tito & Tarantula
DESCRIPTION;ENCODING=QUOTED-PRINTABLE:                                                                           
                                                                            
                                                                            
                                                                            
                                                                            
                           ...=0D=0A=0D=0A  Tito is back! Die Americana-und Desert R
 ock Legende schlechthin geht 2026 auf eine mit Spannung erwartete Best-of E
 uropatournee. Ein Best-Of mit den Klassiker-Tarantula-Songs\, den legend=C3
 =A4ren Filmsongs und einigen musikalischen =C3=9Cberraschungen.Passend dazu
  ver=C3=B6ffentlichen Tito & Tarantula 2026 eine Compilation bisher unver
 =C3=B6ffentlichter und rarer Aufnahmen\, "BEST OF THE UNHEARD". Einige diese
 r Songs werden damit sicher auch ihren Weg auf die B=C3=BChne finden.  =0D=0A  
 Geboren in Mexico und als Sohn eines Fallenstellers in der Wildnis Alaskas 
 aufgewachsen\, begann Tito Larrivas Karriere in Los Angeles. Mit den PLUGZ u
 nd sp=C3=A4ter den CRUZADOS nahm diese schnell Fahrt auf. Eine Top10 Single
  und ein Cover auf dem Billboard Magazin sp=C3=A4ter wurde Larriva Teil der
  L.A. Musik-und Filmszene der 80er Jahre. Im Probenraum nebenan machten die
  Red Hot Chili Peppers ihre ersten Gehversuche. Emmylou Harris\, Jeff Porcar
 o (der fr=C3=BCh verstorbene TOTO Drummer) waren seine Nachbarn. Zeitgleich
  begann auch die Schauspielkarriere des ausgebildeten Ballett-T=C3=A4nzers.
  Nach dem Deb=C3=BCt als =E2=80=9EHammy=E2=80=9C in der =E2=80=9EPee-wee He
 rman Show=E2=80=9C (1981) arbeitete er mit Patrick Swayze (Roadhouse)\, John
 ny Depp (Once Upon A Time In Mexico)\, Antonio Banderas (Desperados 2)\, mit 
 Mel Gibson und Milla Jovovic in Wim Wenders =CC=81=E2=80=9EThe Million Doll
 ar Hotel=E2=80=9C\, David Byrne (True Stories)\, Cheech Marin (Born In East L
 A)\, in dem Oscar-pr=C3=A4mierten Kurzfilm =E2=80=9ESession Man=E2=80=9C sow
 ie mit R. Rodriguez (Grindhouse). Tito Larriva schrieb Musik f=C3=BCr =C3
 =BCber 50 Filme (u.a. die Titelsongs f=C3=BCr =E2=80=9EMachete=E2=80=9C 201
 0 und =E2=80=9EMachete kills=E2=80=9C 2013) und Fernsehserien.  =0D=0A  Der Sta
 rtschuss f=C3=BCr Tito & Tarantula war Robert Rodriguez =CC=81Angebot an 
 =E2=80=9EFrom Dusk Till Dawn=E2=80=9C (1995) mitzuarbeiten. Die legend=C3
 =A4re Performance als Vampire Hausband der =E2=80=9ETittyTwister=E2=80=9C B
 ar und der weltweite Erfolg des Films brachte die Band (als Support von Joe
  Cocker) erstmals nach Europa. Der Europa-Release des Deb=C3=BCt Albums =E2
 =80=9ETarantism=E2=80=9C mit den Klassiker Songs aus =E2=80=9EFrom Dusk Til
 l Dawn=E2=80=9C\, =E2=80=9EAfter Dark=E2=80=9C\, =E2=80=9EAngry Cockroaches
 =E2=80=9C\, sowie=E2=80=9EStrange face of love=E2=80=9C folgte 1997. Diese S
 ongs markieren den Beginn einer neuen =C3=84ra amerikanischer Filmmusik und
  stellen Tito Larrivas au=C3=9Fergew=C3=B6hnliche F=C3=A4higkeiten als S=C3
 =A4nger und Komponist unter Beweis. Tito & Tarantula entstand aus den w=C3
 =B6chentlichen Sessions\, die Larriva unter dem Namen Tito & Friends mit ste
 ts herausragenden Musikern der L.A. Szene veranstaltete. Neben den Gitarris
 ten Steven Hufsteter von dem gesagt wird\, er h=C3=A4tte Bob Dylans Angebot\,
  in seine Band einzusteigen abgelehnt\, war die Band mit Hochkar=C3=A4tern w
 ie dem Gitarristen Peter Atanasoff (Norah Jones\, Ricky Lee Jones) und den D
 rummern Alfredo Ortiz (Beastie Boys/Gogol Bordello) und Rafael Gayol (A-ha\,
  Leonard Cohen) in Europa\, Asien Nord und S=C3=BCdamerika auf Tournee.    E
 inlass: 19:00 Uhr    Altersfreigabe: ab 16 Jahren =20
URL:https://kalender.karlsruhe.de/db/termine/musik/tito_tarantula
CLASS:PUBLIC
DTSTART:20261023T200000
DTEND:
DTSTAMP:20251128T175515
CATEGORIES:Musik
ATTACH:https://kalender.karlsruhe.de/db/termine/musik/tito_tarantula/file/icon_large-tito-2024--3-c--lolita-carroll-larriva-kopie.jpg
END:VEVENT

END:VCALENDAR
