BEGIN:VCALENDAR
VERSION:2.0
CALSCALE:GREGORIAN
PRODID:https://kalender.karlsruhe.de/db/termine/
METHOD:PUBLISH
BEGIN:VEVENT
UID:579619
ORGANIZER;CN=BrettspielSuchties e.V.:MAILTO:kontakt@brettspielsuchties.de
LOCATION:ev. Gemeindehaus Palmbach
SUMMARY:Triple K Boardgame Café
DESCRIPTION;ENCODING=QUOTED-PRINTABLE:Erlebt eine Vielzahl von Brettspielen bei Kaffee und Kuchen. =C3=9Cber 100 
 verschiedene Spiele warten auf euch.=0D=0A=0D=0A  Bist du ein Fan von Brett- oder K
 artenspielen? Fehlen dir die Mitspieler*innen oder m=C3=B6chtest du einfach
  mal etwas Neues ausprobieren? Dann komm zu uns!    In gem=C3=BCtlicher Atm
 osph=C3=A4re im ev. Gemeindehaus in Palmbach erwartet dich eine Auswahl von
  =C3=BCber 100 Spielen. Genie=C3=9Fe dabei eine Tasse Kaffee und hausgemach
 ten Kuchen\, w=C3=A4hrend du nette Gespr=C3=A4che mit Gleichgesinnten f=C3
 =BChrst.    Ob klassische Spiele wie Schach und M=C3=BChle oder die neueste
 n Spieleneuheiten =E2=80=93 bei uns findet jeder das passende Spiel! Unsere
  erfahrenen Regelerkl=C3=A4rer*innen stehen dir zur Seite\, um dir bei der A
 uswahl und den Regeln zu helfen.    Bitte beachte\, dass eine Anmeldung =C3
 =BCber unsere Homepage erforderlich ist\, da die Pl=C3=A4tze auf ca. 60 Pers
 onen begrenzt sind.    Wir freuen uns auf deinen Besuch! =20
URL:https://kalender.karlsruhe.de/db/termine/musik/triple_k_boardgame_cafe-1
CLASS:PUBLIC
DTSTART:20260620T150000
DTEND:20260620T234500
DTSTAMP:20260302T084356
CATEGORIES:Stadtleben
ATTACH:https://kalender.karlsruhe.de/db/termine/stadtleben/triple_k_boardgame_cafe-1/file/icon_Flyer Plakate.jpg
END:VEVENT

END:VCALENDAR
