BEGIN:VCALENDAR
VERSION:2.0
CALSCALE:GREGORIAN
PRODID:https://kalender.karlsruhe.de/db/termine/
METHOD:PUBLISH
BEGIN:VEVENT
UID:580101
ORGANIZER;CN=ZKM | Zentrum für Kunst und Medien Karlsruhe:MAILTO:info@zkm.de
LOCATION:Zentrum für Kunst und Medien (ZKM)
SUMMARY:TURNS ECO/EXO
DESCRIPTION;ENCODING=QUOTED-PRINTABLE:SCREAMING VIBRATION=0D=0A=0D=0A    SCREAMING VIBRATION    bringt zwei herausragende
 \, internationale Stimmen der experimentellen Musik in den Klangdom:     L T
 wills    und     Rojin Sharafi    . L Twills orientiert sich an Wahnsinnsze
 nen aus Opern und verwebt sie in neuen Narrativen =C3=BCber Mental Health i
 n =C3=B6kologischer Fragilit=C3=A4t. Sharafi kombiniert experimentelle Musi
 k mit Noise zu viszeralen Sounds\, die von organisch bis mechanisch reicht. 
 Gemeinsam verwandeln sie den Raum in eine vibrierende Umgebung zwischen inn
 erer Spannung und kosmischer Weite.    Der neue Zyklus     ECO/EXO    =C3
 =BCberf=C3=BChrt zentrale Spannungsfelder der Gegenwart in immersive Klangr
 =C3=A4ume und verbindet =C3=B6kologische Fragilit=C3=A4t mit spekulativen\, 
 au=C3=9Ferirdischen Perspektiven. Beide k=C3=BCnstlerischen Positionen nutz
 en den Raum als aktives kompositorisches Element und arbeiten mit vielschic
 htigen elektroakustischen Verfahren. Das Konzert stellt zwei unterschiedlic
 he Herangehensweisen an Material\, Wahrnehmung und Zeit gegen=C3=BCber. Geme
 insam er=C3=B6ffnen die Werke neue H=C3=B6rperspektiven zwischen K=C3=B6rpe
 r\, Umwelt und Imagination. =20
URL:https://kalender.karlsruhe.de/db/termine/musik/turns_ecoexo
CLASS:PUBLIC
DTSTART:20260430T190000
DTEND:
DTSTAMP:20260324T092757
CATEGORIES:Musik
ATTACH:https://kalender.karlsruhe.de/db/termine/musik/turns_ecoexo/file/icon_TURNS-X-UNCENSORED-CLINIC-02.jpg
END:VEVENT

END:VCALENDAR
