BEGIN:VCALENDAR
VERSION:2.0
CALSCALE:GREGORIAN
PRODID:https://kalender.karlsruhe.de/db/termine/
METHOD:PUBLISH
BEGIN:VEVENT
UID:580849
ORGANIZER;CN=KlangKunst in der Hemingway Lounge e. V.:MAILTO:presse@hemingwaylounge.de
LOCATION:Hemingway Lounge in Karlsruhe
SUMMARY:Two for Two . Peter Lehel Quartet invites Gary Boigon
DESCRIPTION;ENCODING=QUOTED-PRINTABLE:Gary Boigon (sax) . Peter Lehel (sax) . Ull M=C3=B6ck (p) . Mini Schulz (b)
  . Oliver Strauch (d)=0D=0A=0D=0A  "Two for Two=E2=80=9C vereint zwei profilierte S
 axophonisten in einem Quartett\, das den Dialog der Instrumente in den Mitte
 lpunkt stellt. Der Karlsruher Musiker=C2=A0Peter Lehel=C2=A0l=C3=A4dt mit
 =C2=A0Gary Boigon=C2=A0einen international erfahrenen Saxophonisten aus den
  USA ein\, der unter anderem mit K=C3=BCnstlern wie den Brecker Brothers\, Ma
 rtha Reeves oder Solomon Burke auftrat und am Berklee College of Music ausg
 ebildet wurde. Aus dieser Begegnung entsteht ein spannendes musikalisches Z
 usammenspiel zweier eigenst=C3=A4ndiger Saxophonstimmen. Begleitet wird das
  Duo von einem hochkar=C3=A4tigen Rhythmusteam mit=C2=A0Ull M=C3=B6ck=C2=A0
 am Klavier\,=C2=A0Mini Schulz=C2=A0am Bass und=C2=A0Oliver Strauch=C2=A0am S
 chlagzeug. Die Formation verbindet melodische Klarheit mit improvisatorisch
 er Offenheit und rhythmischer Energie. Charakteristisch f=C3=BCr das Ensemb
 le ist die lebendige Interaktion zwischen den Musikern\, die Raum f=C3=BCr s
 pontane musikalische Ideen und virtuose Soli schafft. So entsteht ein moder
 ner Jazzsound\, der internationale Erfahrung\, musikalische Pers=C3=B6nlichke
 it und kollektive Spielfreude miteinander verbindet.    =0D=0A =20
URL:https://kalender.karlsruhe.de/db/termine/musik/two_for_two_peter_lehel_quartet_invites_gary_boigon
CLASS:PUBLIC
DTSTART:20260515T200000
DTEND:20260515T223000
DTSTAMP:20260415T084408
CATEGORIES:Musik
ATTACH:https://kalender.karlsruhe.de/db/termine/musik/two_for_two_peter_lehel_quartet_invites_gary_boigon/file/icon_260515_HL_pic1_Gary Boigon.jpg
END:VEVENT

END:VCALENDAR
