BEGIN:VCALENDAR
VERSION:2.0
CALSCALE:GREGORIAN
PRODID:https://kalender.karlsruhe.de/db/termine/
METHOD:PUBLISH
BEGIN:VEVENT
UID:579529
ORGANIZER;CN=Substage Karlsruhe e.V.:MAILTO:info@substage.de
LOCATION:Substage Karlsruhe e.V.
SUMMARY:Ü40 PARTY
DESCRIPTION;ENCODING=QUOTED-PRINTABLE:+++ Aus organisatorischen Gr=C3=BCnden gibt es f=C3=BCr unsere Partys gener
 ell keinen Vorverkauf oder Reservierungsm=C3=B6glichkeiten\, wir bitten um V
 erst=C3=A4ndnis +++mit DJ GRAND FUNK HAUBRICH=0D=0A=0D=0A  DISCO 40 =E2=80=93 Karls
 ruhes dienst=C3=A4lteste =C3=9C40 PARTY    Das was 2003 im alten Substage a
 ls =C3=9C30 PARTY begann\, nennt sich zwar nun schon seit einigen Jahren =C3
 =9C40 PARTY =E2=80=93 hat aber durch die Jahre\, weder an Attraktivit=C3=A4t
 \, noch an Popularit=C3=A4t verloren. Und so ist es auch nicht weiter verwun
 derlich\, dass zu den Terminen\, auch nach =C3=BCber 20 Jahren\, noch immer je
 de Menge Menschen jenseits der Vierzig ins Substage pilgern\, weil sie vor a
 llem eines wollen:  =0D=0A  Tanzen\, tanzen\, tanzen=E2=80=A6  =0D=0A  Die Musik ist 
 wichtig und darum auch so vielseitig wie das Publikum. Freut Euch also auf 
 einen wunderbaren Abend mit netten Menschen gleichen Alters und genau der M
 usik\, auf die Ihr schon immer gerne abgetanzt habt: Rock =E2=80=93 Pop =E2
 =80=93 Funk =E2=80=93 Soul =E2=80=93 RnB und die aktuellsten Chart-Hits =E2
 =80=93 kurzum: THE BEST PARTYMUSIC IN TOWN  =0D=0A  Von Ed Sheeran bis Madonna 
  =0D=0A  Von Seeed bis Depeche Mode  =0D=0A  Von Faithless bis AC/DC  =0D=0A  =E2=80=A6
 und nat=C3=BCrlich 100% garantiert frei von Schlager\, Discofox und Malle-Hi
 ts!    Einlass: 21:00 Uhr =20
URL:https://kalender.karlsruhe.de/db/termine/musik/u40_party
CLASS:PUBLIC
DTSTART:20261003T210000
DTEND:
DTSTAMP:20260223T175605
CATEGORIES:Musik
ATTACH:https://kalender.karlsruhe.de/db/termine/musik/u40_party/file/icon_large-njp4aj3w.jpg
END:VEVENT

END:VCALENDAR
