BEGIN:VCALENDAR
VERSION:2.0
CALSCALE:GREGORIAN
PRODID:https://kalender.karlsruhe.de/db/termine/
METHOD:PUBLISH
BEGIN:VEVENT
UID:580980
ORGANIZER;CN=Hochschule für Musik :MAILTO:pressebuero@hfm-karlsruhe.de
LOCATION:Kleine Kirche Karlsruhe
SUMMARY:Violinrezital
DESCRIPTION;ENCODING=QUOTED-PRINTABLE:Mittagskonzert=0D=0A=0D=0A    Werke      von    Johann Sebastian Bach und Niccol=C3
 =B2 Paganini  =0D=0A  =0D=0A     Mitwirkende    =0D=0A  =0D=0A     Marie Helling    \, Violi
 ne  =0D=0A     Nargiza Alimova    \, Klavier  =0D=0A  =0D=0A      Programm      Johann S
 ebastian     Bach    (1685-1750)  =0D=0A  Sonate C-Dur BWV 1005  =0D=0A  f=C3=BCr V
 ioline Solo  =0D=0A  III. Largo  =0D=0A  IV. Allegro Assai  =0D=0A  =0D=0A  Niccol=C3=B2   
   Paganini    (1782-1840)  =0D=0A  Violinkonzert Nr. 1 D-Dur\, op. 6  =0D=0A  I. All
 egro Maestoso  =0D=0A  II. Adagio espressivo  =0D=0A  =0D=0A  Variationen =C3=BCber Nel
  cor pi=C3=B9 non mi sento  =0D=0A   Eintritt frei =20
URL:https://kalender.karlsruhe.de/db/termine/musik/violinrezital-2
CLASS:PUBLIC
DTSTART:20260508T121500
DTEND:
DTSTAMP:20260417T091016
CATEGORIES:Musik
ATTACH:https://kalender.karlsruhe.de/db/termine/musik/violinrezital-2/file/icon_kleine_kirche_quadrat.jpg
END:VEVENT

END:VCALENDAR
