BEGIN:VCALENDAR
VERSION:2.0
CALSCALE:GREGORIAN
PRODID:https://kalender.karlsruhe.de/db/termine/
METHOD:PUBLISH
BEGIN:VEVENT
UID:580677
ORGANIZER;CN=Citykirche in Karlsruhe (Ev. Kirche in Karlsruhe):MAILTO:info@abendschoen-akzente.de
LOCATION:Kleine Kirche beim Marktplatz Karlsruhe, Kaiserstr. 131
SUMMARY:Zwischenspiele für die Seele mit Wolfgang Abendschön & AKZENTE und Gästen
DESCRIPTION;ENCODING=QUOTED-PRINTABLE:Zwischent=C3=B6ne\, Rock & Gospel\, Performance. Als Gast mit dabei: Der Akti
 ons- und Holzs=C3=A4gek=C3=BCnstler Guntram Prochaska. Gastgeber: Stadtdeka
 n Dr. Thomas Schalla=0D=0A=0D=0A  F=C3=BCr die au=C3=9Fergew=C3=B6hnliche =C3=B6kum
 enische Reihe "Zwischenspiele f=C3=BCr die Seele" hei=C3=9Ft es am Sonntag\,
  den 26. April 2026 um 19 Uhr wieder Fortsetzung folgt. Unter dem Titel "Ho
 ffnung auf gute Geister f=C3=BCr die Welt=E2=80=9C gibt es dann in der beso
 nderen Atmosph=C3=A4re der Kleinen Kirche beim Marktplatz Karlsruhe\, der 
 =C3=A4ltesten Kirche der Stadt\, ein au=C3=9Fergew=C3=B6hnliches Angebot f
 =C3=BCr alle =C3=BCber die Kirchen- und Stadtmauern hinaus. Mit dabei Rockp
 oet Wolfgang Abendsch=C3=B6n und seine AKZENTE-Band und diesmal als Gast de
 r Aktionsk=C3=BCnstler und Holzs=C3=A4gekomponist Guntram Prochaska. Durch 
 seine markante und k=C3=B6rperbetonte Kunstform gilt er heute als einer der
  pr=C3=A4gnantesten Vertreter der deutschen Aktionsmalerei\, er f=C3=BChrt d
 ie Kulturen zusammen und macht den Menschen ihren Ursprung wieder bewusst. 
 Performances auch in New York\, Barcelona\, M=C3=BCnchen\, auf der documenta i
 n Kassel. Seine Werke werden inzwischen in vierzig L=C3=A4ndern bewundert. 
 Wenn er zur Kettens=C3=A4ge greift\, entstehen Kunstwerke der besonderen Art
 . Ein au=C3=9Fergew=C3=B6hnlicher Abend mit Zwischent=C3=B6nen\, Rock & Gosp
 el\, Performance - heiter\, verspielt\, traurig\, getr=C3=B6stet.    Gastgeber 
 ist der Karlsruher Stadtdekan Dr. Thomas Schalla. Der Eintritt ist frei. Di
 e Kleine Kirche ist am Veranstaltungstag ab 18 Uhr offen. Es gibt ein Info-
 Tel. 0721-885466. Mehr Info auch unter www. abendschoen-akzente.de.    =0D=0A 
 =20
URL:https://kalender.karlsruhe.de/db/termine/musik/zwischenspiele_fur_die_seele_mit_wolfgang-3
CLASS:PUBLIC
DTSTART:20260426T190000
DTEND:
DTSTAMP:20260407T112019
CATEGORIES:Musik
ATTACH:https://kalender.karlsruhe.de/db/termine/musik/zwischenspiele_fur_die_seele_mit_wolfgang-3/file/icon_Wolfgang Abendschön & AKZENTE 102.jpg
END:VEVENT

END:VCALENDAR
