BEGIN:VCALENDAR
VERSION:2.0
CALSCALE:GREGORIAN
PRODID:https://kalender.karlsruhe.de/db/termine/
METHOD:PUBLISH
BEGIN:VEVENT
UID:577874
ORGANIZER;CN=BD Karlsruhe:MAILTO:feuerwehr@karlsruhe.de
LOCATION:Rund um die Feuerwache West, Honsellstraße 3
SUMMARY:100 Jahre Berufsfeuerwehr Karlsruhe - Feuerwehrlauf
DESCRIPTION;ENCODING=QUOTED-PRINTABLE:Laufspa=C3=9F\, Fitnessabzeichen und Gemeinschaft f=C3=BCr Feuerwehrfans und
  Sportbegeisterte=0D=0A=0D=0A  Sport verbindet! Anl=C3=A4sslich ihres 100-j=C3=A4hr
 igen Bestehens veranstaltet die Berufsfeuerwehr Karlsruhe am 14.06.2026 ein
 en Lauf f=C3=BCr Gro=C3=9F und Klein. Der Lauf findet in verschiedenen Wert
 ungen statt\, so dass f=C3=BCr jeden etwas dabei ist. Es werden beispielswei
 se Kinderl=C3=A4ufe mit altersgerechten Distanzen oder ein Staffellauf ange
 boten. Ein besonderes Angebot f=C3=BCr alle Feuerwehrleute ist die Abnahme 
 des Feuerwehr-Fitness-Abzeichens an diesem Tag. Die Siegerehrung findet im 
 Anschluss an die L=C3=A4ufe auf dem Gel=C3=A4nde der Feuerwache West statt.
  Die Berufsfeuerwehr Karlsruhe l=C3=A4dt Sie zu einem sportlichen Tag volle
 r Spa=C3=9F\, Bewegung und Gemeinschaft ein!    =0D=0A =20
URL:https://kalender.karlsruhe.de/db/termine/sportveranstaltung/100_jahre_berufsfeuerwehr_karlsruhe_feuerwehrlauf
CLASS:PUBLIC
DTSTART:20260614T103000
DTEND:20260614T160000
DTSTAMP:20260112T100917
CATEGORIES:Sport
ATTACH:https://kalender.karlsruhe.de/db/termine/sportveranstaltung/100_jahre_berufsfeuerwehr_karlsruhe_feuerwehrlauf/file/icon_100 Jahre Berufsfeuerwehr_cmyk.jpg
END:VEVENT

END:VCALENDAR
