BEGIN:VCALENDAR
VERSION:2.0
CALSCALE:GREGORIAN
PRODID:https://kalender.karlsruhe.de/db/termine/
METHOD:PUBLISH
BEGIN:VEVENT
UID:576025
ORGANIZER;CN=LG Region Karlsruhe:MAILTO:info@lgr-karlsruhe.de
LOCATION:Hohenwettersbach
SUMMARY:11. Bergdorfmeile
DESCRIPTION;ENCODING=QUOTED-PRINTABLE:8\,888889 km rund um Hohenwettersbach=0D=0A=0D=0A  Lauf auf wundersch=C3=B6nen Wegen
 \, vorbei am Golfplpatz Batzenhof\, Thomashof\, den Rittnertwald und den Lampr
 echtshof zur=C3=BCck nach Hohenwettersbach mit Ziel beim SV Hohenwettersbac
 h  =0D=0A =20
URL:https://kalender.karlsruhe.de/db/termine/sportveranstaltung/11_bergdorfmeile
CLASS:PUBLIC
DTSTART:20260626T190000
DTEND:
DTSTAMP:20251110T092221
CATEGORIES:Sport
ATTACH:https://kalender.karlsruhe.de/db/termine/sportveranstaltung/11_bergdorfmeile/file/icon_Bergdorfmeile ohne Jahreszahl.jpg
END:VEVENT

END:VCALENDAR
