BEGIN:VCALENDAR
VERSION:2.0
CALSCALE:GREGORIAN
PRODID:https://kalender.karlsruhe.de/db/termine/
METHOD:PUBLISH
BEGIN:VEVENT
UID:576023
ORGANIZER;CN=LG Region Karlsruhe:MAILTO:info@lgr-karlsruhe.de
LOCATION:Carl-Kaufmann-Stadion
SUMMARY:35. Badische Meile
DESCRIPTION;ENCODING=QUOTED-PRINTABLE:8\,888889 km Spa=C3=9F und Erlebnis=0D=0A=0D=0A  Lauf\, Walking und Nordic Walking du
 rch die Karlsruher Innenstadt  =0D=0A =20
URL:https://kalender.karlsruhe.de/db/termine/sportveranstaltung/35_badische_meile
CLASS:PUBLIC
DTSTART:20260503T100000
DTEND:
DTSTAMP:20251107T085136
CATEGORIES:Sport
ATTACH:https://kalender.karlsruhe.de/db/termine/sportveranstaltung/35_badische_meile/file/icon_Badische Meile LogoohneZahl.jpg
END:VEVENT

END:VCALENDAR
