BEGIN:VCALENDAR
VERSION:2.0
CALSCALE:GREGORIAN
PRODID:https://kalender.karlsruhe.de/db/termine/
METHOD:PUBLISH
BEGIN:VEVENT
UID:578122
ORGANIZER;CN=Infront B2Run GmbH:MAILTO:info@b2run.de
LOCATION:BBBank Wildpark
SUMMARY:B2Run Karlsruhe
DESCRIPTION;ENCODING=QUOTED-PRINTABLE:5\,3 km durch den Schlossgarten mit Zieleinlauf im BBBank Wildpark=0D=0A=0D=0A  Erle
 bt den B2Run Karlsruhe am=C2=A007. Mai 2026=C2=A0und startet gemeinsam mit 
 eurem Unternehmen beim gro=C3=9Fen=C2=A0Firmenlauf der Region Karlsruhe! Di
 e rund=C2=A05\,3 km lange Strecke=C2=A0f=C3=BChrt durch den sch=C3=B6nen Sch
 lossgarten und endet mit einem unvergesslichen Zieleinlauf im=C2=A0BBBank W
 ildpark. Ob als Team mit Kolleg/-innen oder als Einzelstarter/-in - dieser 
 Lauf ist das sportliche Highlight f=C3=BCr Firmen und Organisationen aus Ka
 rlsruhe und Umgebung. =20
URL:https://kalender.karlsruhe.de/db/termine/sportveranstaltung/b2run_karlsruhe-1
CLASS:PUBLIC
DTSTART:20260507T180000
DTEND:20260507T220000
DTSTAMP:20260119T082530
CATEGORIES:Sport
ATTACH:https://kalender.karlsruhe.de/db/termine/sportveranstaltung/b2run_karlsruhe-1/file/icon_0508_B2Run_Karlsruhe_kl_Schuetze_467.jpg
END:VEVENT

END:VCALENDAR
