BEGIN:VCALENDAR
VERSION:2.0
CALSCALE:GREGORIAN
PRODID:https://kalender.karlsruhe.de/db/termine/
METHOD:PUBLISH
BEGIN:VEVENT
UID:580989
ORGANIZER;CN=Familienzentrum Karlsruhe Nord-Ost:MAILTO:familienzentrum-nordost@st-raphael-ka.de
LOCATION:Gemeindezentrum St. Hedwig
SUMMARY:Eltern tanzen mit Kindern
DESCRIPTION;ENCODING=QUOTED-PRINTABLE:Gemeinsam lachen\, tanzen und bewegen=0D=0A=0D=0A
URL:https://kalender.karlsruhe.de/db/termine/sportveranstaltung/eltern_tanzen_mit_kindern
CLASS:PUBLIC
DTSTART:20260423T093000
DTEND:20260521T103000
DTSTAMP:20260420T110430
CATEGORIES:Sport
ATTACH:https://kalender.karlsruhe.de/db/termine/sportveranstaltung/eltern_tanzen_mit_kindern/file/icon_familienzentrum nord-ost.jpg
END:VEVENT

END:VCALENDAR
