BEGIN:VCALENDAR
VERSION:2.0
CALSCALE:GREGORIAN
PRODID:https://kalender.karlsruhe.de/db/termine/
METHOD:PUBLISH
BEGIN:VEVENT
UID:581068
ORGANIZER;CN=Simon Friedsam:MAILTO:simon.fechtet@gmail.com
LOCATION:Gladiatores Karlsruhe
SUMMARY:Lerne Schwertkampf - Einsteiger Workshop
DESCRIPTION;ENCODING=QUOTED-PRINTABLE:Bewegung\, Technik\, Spa=C3=9F =E2=80=93 entdecke den mittelalterlichen Schwe
 rtkampf! Starte ins neue Jahr mit einer neuen Herausforderung: Lerne das Fe
 chten mit dem EInhandschwert und erlebe mittelalterlichen Schwertkampf haut
 nah.=0D=0A=0D=0A  Das lange Messer ist eine einh=C3=A4ndig gef=C3=BChrte Waffe des 
  Sp=C3=A4tmittelalters =E2=80=94 ein Einhandschwert\, das vor allem von B=C3
 =BCrgern zur  Selbstverteidigung getragen wurde\, aber genauso wirkungsvoll 
 wie das lange Schwert. Schnell\, pr=C3=A4zise und =C3=BCberraschend vielseit
 ig.    Im Workshop lernst du die Grundtechniken: sicherer Griff und Haltung
 \,  einfache Angriffs- und Verteidigungsbewegungen sowie erste taktische  Ko
 nzepte im Duell. Die Techniken stammen direkt aus dem Fechtbuch von  Hans L
 eck=C3=BCchner (15. Jahrhundert) und dem Codex Wallerstein =E2=80=94  praxi
 serprobt\, quellenbasiert und =C3=BCberraschend effektiv.    Du =C3=BCbst mi
 t echtem Stahl: Gewicht und Balance des Messers vermitteln  ein K=C3=B6rper
 gef=C3=BChl\, das sich von jedem anderen Sport unterscheidet.      Das erwar
 tet dich:        Haltung\, Griff und Grundbewegungen      Angriffs- und Vert
 eidigungstechniken f=C3=BCr Einsteiger      Praxisbew=C3=A4hrte Techniken a
 us dem 15. Jahrhundert      Training mit echtem Stahl =E2=80=94 Gewicht und
  Dynamik hautnah erleben      Pers=C3=B6nliche Anleitung in kleiner Gruppe 
      Nach dem Workshop hast du grundlegende Angriffs- und  Verteidigungstec
 hniken aus den Quellen von Leck=C3=BCchner und dem Codex  Wallerstein aktiv
  ge=C3=BCbt =E2=80=94 und gehst mit einem echten Gef=C3=BChl f=C3=BCr das  
 Lange Messer nach Hause.    Kosten:     55 =E2=82=AC    pro Person  =0D=0A  =0D=0A 
  Du willst dabei sein? Melde dich einfach per Mail an info@schwertkampf-kar
 lsruhe.de oder direkt =C3=BCber schwertkampf-karlsruhe.de =E2=80=94 die Pl
 =C3=A4tze sind begrenzt. =20
URL:https://kalender.karlsruhe.de/db/termine/sportveranstaltung/lerne_schwertkampf_einsteiger_workshop-1
CLASS:PUBLIC
DTSTART:20260509T100000
DTEND:20260509T150000
DTSTAMP:20260420T110258
CATEGORIES:Sport
ATTACH:https://kalender.karlsruhe.de/db/termine/sportveranstaltung/lerne_schwertkampf_einsteiger_workshop-1/file/icon_IMG_1984.jpg
END:VEVENT

END:VCALENDAR
