BEGIN:VCALENDAR
VERSION:2.0
CALSCALE:GREGORIAN
PRODID:https://kalender.karlsruhe.de/db/termine/
METHOD:PUBLISH
BEGIN:VEVENT
UID:581067
ORGANIZER;CN=Critical Mass Karlsruhe:MAILTO:
LOCATION:Kronenplatz
SUMMARY:Zubringer zur ADFC-Sternfahrt in Stuttgart
DESCRIPTION;ENCODING=QUOTED-PRINTABLE:Sportlicher Zubringer zur ADFC-Radsternfahrt nach Stuttgart=0D=0A=0D=0A  Am     21.
  Juni 2026    rollen wir gemeinsam nach Stuttgart: Mit tausenden Menschen a
 us ganz Baden-W=C3=BCrttemberg radeln wir zum     Karlsplatz    =E2=80=93 m
 itten in die Stadt\, mitten in der Debatte um die Mobilit=C3=A4t der Zukunft
 . Denn:     Die Zukunft f=C3=A4hrt Rad!      Unsere Botschaft ist klar:    
  Radfahren muss f=C3=BCr alle m=C3=B6glich\, sicher\, komfortabel und selbstv
 erst=C3=A4ndlich sein!      Letztes Jahr nahmen im September 5.400 Menschen
  an der Radsternfahrt nach Stuttgart  teil =E2=80=93 ein gro=C3=9Fer Erfolg
  f=C3=BCr das Radfahren in Baden-W=C3=BCrttemberg. Bei  trockenem und warme
 m Wetter fand die Sternfahrt regen Zuspruch aus allen  Himmelsrichtungen. K
 lein und Gro=C3=9F\, Jung und Alt radelten nach Stuttgart  =E2=80=93 auch Po
 litiker*innen wie     Cem =C3=96zdemir    und Verkehrsminister     Winfried
  Hermann    waren mit dem Fahrrad dabei. Sogar aus Freiburg\, Karlsruhe\, Hei
 delberg  oder Schw=C3=A4bisch Gm=C3=BCnd kamen Unterst=C3=BCtzer*innen nach
  Stuttgart. Auf 12  polizeibegleiteten Strecken ging die Demo =C3=BCber die
  autofreien  Bundesstra=C3=9Fen B10 und B14 bis zum Schlossplatz =E2=80=93 
 endlich gab es mal  richtig viel Platz f=C3=BCrs Fahrrad!      Ein Tag\, der
  bewegt und verbindet      Die Sternfahrt ist ein     Fest auf zwei R=C3=A4
 dern    =E2=80=93 bunt\, laut\, fr=C3=B6hlich und voller Energie. Egal ob jun
 g oder alt\, sportlich oder gem=C3=BCtlich:     Alle sind willkommen und k
 =C3=B6nnen mitfahren!      So  sieht es heute noch aus: Tag f=C3=BCr Tag m
 =C3=BCssen wir uns die wenigen  Fahrradstra=C3=9Fen mit Autofahrenden teile
 n. Gro=C3=9Fe Stra=C3=9Fen sind dagegen dem  Autoverkehr vorbehalten.     A
 ber einmal im Jahr demonstrieren wir genau dort f=C3=BCr mehr Platz f=C3=BC
 r uns Radfahrende.    Wir erleben\, wie unsere Mobilit=C3=A4t aussehen k=C3
 =B6nnte\, wenn sie sich an den Menschen orientiert =E2=80=93 und nicht nur a
 m Auto.    Gemeinsam auf der Sternfahrt sind wir sicher\, entspannt und selb
 stbewusst auf komfortablen Stra=C3=9Fen unterwegs.     So viel Spa=C3=9F ka
 nn Radfahren machen =E2=80=93 und so soll es =C3=BCberall werden\, 365 Tage 
 im Jahr!        Viele Treffpunkte auf Routen aus allen Himmelsrichtungen   
  mit rund 400 Kilometern f=C3=BChren auch bei Dir vorbei. Mehrere     Zubri
 nger    erweitern die Sternfahrt.    -----    Start sportlicher Zubringer u
 m 7:45 am Kronenplatz. Bitte Mitbringen: Gute Kondition f=C3=BCr einige H
 =C3=B6henmeter mit ca. 20 km/h  Durchschnittsgeschwindigkeit. Sowie Getr=C3
 =A4nke und Proviant f=C3=BCr unterwegs.    Wir machen um 9:45 Station in Pf
 orzheim und schlie=C3=9Fen uns gegen 11:30 dem angemeldeten Zubringer in We
 il der Stadt an. =20
URL:https://kalender.karlsruhe.de/db/termine/sportveranstaltung/zubringer_zur_adfc_sternfahrt_in_stuttgart
CLASS:PUBLIC
DTSTART:20260621T073000
DTEND:20260621T180000
DTSTAMP:20260420T110405
CATEGORIES:Sport
ATTACH:https://kalender.karlsruhe.de/db/termine/sportveranstaltung/zubringer_zur_adfc_sternfahrt_in_stuttgart/file/icon_csm_Website_Artikelbild_Sternfahrt_2026_o.Motto_248376aec7.jpg
END:VEVENT

END:VCALENDAR
