BEGIN:VCALENDAR
VERSION:2.0
CALSCALE:GREGORIAN
PRODID:https://kalender.karlsruhe.de/db/termine/
METHOD:PUBLISH
BEGIN:VEVENT
UID:580622
ORGANIZER;CN=Stadtamt Durlach:MAILTO:kultur@durlach.karlsruhe.de
LOCATION:Durlach, Rosengarten
SUMMARY:17. Durlacher Lesesommer
DESCRIPTION;ENCODING=QUOTED-PRINTABLE:Literatur im Park=0D=0A=0D=0A  An=C2=A0drei Sommerabenden=C2=A0lesen B=C3=BCrgerinn
 en und B=C3=BCrger allen\, die gerne zuh=C3=B6ren\, literarische Kostproben a
 us=C2=A0Ihren Lieblingsb=C3=BCchern vor.=C2=A0So individuell wie die Vorles
 enden wird auch das=C2=A0bunt=C2=A0gemischte Leseprogramm=C2=A0des jeweilig
 en Abends=C2=A0sein. Alle Interessenten sind herzlich zur Literatur im Park
  eingeladen =E2=80=93 ob zum Zuh=C3=B6ren oder um mitzuwirken. Ein speziell
 es Angebot gibt es zudem f=C3=BCr junge Literaturbegeisterte. =20
URL:https://kalender.karlsruhe.de/db/termine/stadtleben/17_durlacher_lesesommer
CLASS:PUBLIC
DTSTART:20260720T193000
DTEND:20260722T213000
DTSTAMP:20260402T092338
CATEGORIES:Stadtleben
ATTACH:https://kalender.karlsruhe.de/db/termine/stadtleben/17_durlacher_lesesommer/file/icon_Lesesommer.jpg
END:VEVENT

END:VCALENDAR
