BEGIN:VCALENDAR
VERSION:2.0
CALSCALE:GREGORIAN
PRODID:https://kalender.karlsruhe.de/db/termine/
METHOD:PUBLISH
BEGIN:VEVENT
UID:577913
ORGANIZER;CN=Alpha Marketing GmbH:MAILTO:alphamarketing@t-online.de
LOCATION:Karlsruhe Schlossgarten
SUMMARY:24. Karlsruher Bierbörse
DESCRIPTION;ENCODING=QUOTED-PRINTABLE:Schlosspark verwandelt sich in gr=C3=B6=C3=9Ften Biergarten der Region=0D=0A=0D=0A 
  Die Karlsruher Bierb=C3=B6rse =C3=B6ffnet zum 24. Mal ihre Tore - oder bes
 ser gesagt die unz=C3=A4hligen Zapfh=C3=A4hne. Vom 28. bis zum 30. August 2
 026 ist im herrlichen Karlsruher Schlossgarten das gr=C3=B6=C3=9Fte Bierfes
 t Baden-W=C3=BCrttembergs geplant.    Mit rund 60 St=C3=A4nden lockt die Ka
 rlsruher Bierb=C3=B6rse j=C3=A4hrlich zahlreiche Bierb=C3=B6rsenfans in den
  Schlossgarten. Von Freitag bis Sonntag k=C3=B6nnen die Besucher mehr als 5
 00 traditionelle und exotische Biersorten im Ma=C3=9Fkrug oder im praktisch
 en =E2=80=9EProBIERglas=E2=80=9C verkosten. Im allergr=C3=B6=C3=9Ften Bierg
 arten der herrlichen F=C3=A4cherstadt feiern seit vielen Jahren Jung und Al
 t gemeinsam die Bierb=C3=B6rse. Die Karlsruher Bierb=C3=B6rse ist ein Gehei
 mtipp f=C3=BCr Junggesellenabschiede und Vereinsausfl=C3=BCge und geh=C3=B6
 rt ganz sicher zu den attraktivsten und beliebtesten Festen der Region. An 
 zahlreichen Spezialit=C3=A4tenimbissen gibt es die richtige Grundlage f=C3
 =BCr eine fr=C3=B6hliche Reise durch die Welt der Biere. =20
URL:https://kalender.karlsruhe.de/db/termine/stadtleben/24_karlsruher_bierborse
CLASS:PUBLIC
DTSTART:20260828T000000
DTEND:20260830T000000
DTSTAMP:20260113T155446
CATEGORIES:Stadtleben
ATTACH:https://kalender.karlsruhe.de/db/termine/stadtleben/24_karlsruher_bierborse/file/icon_bierboersen-logo-180.jpg
END:VEVENT

END:VCALENDAR
