BEGIN:VCALENDAR
VERSION:2.0
CALSCALE:GREGORIAN
PRODID:https://kalender.karlsruhe.de/db/termine/
METHOD:PUBLISH
BEGIN:VEVENT
UID:581066
ORGANIZER;CN=Bürgergemeinschaft Rüppurr e.V. (BGR):MAILTO:info@rueppurr.de
LOCATION:Rastatter Straße / Ecke Lange Straße
SUMMARY:38. Rüppurrer Maibaumfeschd
DESCRIPTION;ENCODING=QUOTED-PRINTABLE:KOMM NACH R=C3=9CPPURR =E2=80=93 Die Tradition geht weiter=0D=0A=0D=0A  Die B=C3=BC
 rgergemeinschaft R=C3=BCppurr und die Familie Koffler hei=C3=9Fen Sie in  u
 nserem sch=C3=B6nen Stadtteil R=C3=BCppurr auf der Rastatter Stra=C3=9Fe he
 rzlich  willkommen!    Das Maibaumfeschd der B=C3=BCrgergemeinschaft R=C3
 =BCppurr geht dieses Jahr  ganze f=C3=BCnf Tage mit toller Livemusik\, viel 
 guter Laune\, gem=C3=BCtlichem  Zusammensitzen und Leckerem vom Holzkohlegri
 ll sowie sommerlichen  Cocktails. Mexikanische Streetfood Spezialit=C3=A4te
 n gibt es frisch aus der  Mexican Good Food Manufaktur an der Rastatter Str
 a=C3=9Fe.    Samstag und Sonntag     Mexikanisch Fr=C3=BChst=C3=BCcken    i
 m  Restaurantgarten Taqueria Taol von 10 Uhr bis 16 Uhr (Reservierung  empf
 ohlen): t=C3=A4gliche Kaffeespezialit=C3=A4ten und hausgemachter  Erdbeerku
 chen.    Frisch gezapft wird s=C3=BCffiges Mai-Fest Bier der Brauerei Monin
 ger.  Au=C3=9Ferdem gibt es am 1.Mai ab 12 Uhr einen Wei=C3=9Fwurstfr=C3=BC
 hschoppen und am  3. Mai ab 12 Uhr ist der Startschuss der     Rieberger Sc
 hlachtplatte       (solange Vorrat reicht).    F=C3=BCr die Kinder steht ei
 n buntes Programm mit einer     H=C3=BCpfburg    \,     Kinderkarussell    u
 nd     Kinderschminken    sowie ein S=C3=BC=C3=9Figkeiten Stand bereit.    
 Reichlich =C3=BCberdachte und beheizte Sitzpl=C3=A4tze sind ebenfalls vorha
 nden.      Mittwoch\, 29. April      ge=C3=B6ffnet ab 16 Uhr  =0D=0A  18 Uhr:   
   Shakin Cats    \, Mitreissender Rock=E2=80=98 N=E2=80=98 roll der 50=E2=80
 =99er      Donnerstag\, 30. April      ge=C3=B6ffnet ab 16 Uhr  =0D=0A  18 Uhr: 
     Einmarsch der R=C3=BCppurrer Feuerwehr    mit dem Maibaum\, begleitet vo
 n den     R=C3=BCppurrer Festzugs      Musikanten      Festwirt Michael Kof
 fler gibt einen aus (Freibier der Brauerei Moninger solange der Vorrat reic
 ht) =E2=80=93     Fassanstich    durch den 1. Vorsitzenden der B=C3=BCrgerg
 emeinschaft R=C3=BCppurr Herr  Friedreich Lemmen und der R=C3=BCppurrer Sta
 dtr=C3=A4tin Bettina Meier Augenstein\,  anschlie=C3=9Fend Tanz in den Mai u
 nd Vollgas mit der     Harry Cane Band        Freitag\, 1. Mai      ge=C3=B6
 ffnet ab 12 Uhr  =0D=0A  12 Uhr: Z=C3=BCnftiger Wei=C3=9Fwurstfr=C3=BChschoppen
  mit der     BOK Big Band    =0D=0A  18 Uhr:     Kognito Soul    =E2=80=93 Rock
  =E2=80=93 Rock=E2=80=98n-Roll      Samstag\, 2. Mai      ge=C3=B6ffnet ab 1
 6 Uhr  =0D=0A  18 Uhr: Stra=C3=9Fenparty mit der Partyband     Cherrylane      
   Sonntag\, 3. Mai      ge=C3=B6ffnet ab 12 Uhr  =0D=0A  12 Uhr:     Pf=C3=A4lze
 r Schoppen =E2=80=93 Musikanten    spielen z=C3=BCnftig zum     Schlachtpla
 ttenessen    auf  =0D=0A  17 Uhr: Highlight Finale mit     Sean Tracy Band    m
 al ruhig\, mal rockig\, aber immer mit Seele. =20
URL:https://kalender.karlsruhe.de/db/termine/stadtleben/38_ruppurrer_maibaumfeschd
CLASS:PUBLIC
DTSTART:20260429T160000
DTEND:20260503T220000
DTSTAMP:20260420T110545
CATEGORIES:Stadtleben
ATTACH:https://kalender.karlsruhe.de/db/termine/stadtleben/38_ruppurrer_maibaumfeschd/file/icon_Kofflers_Maibaumfeschd_2026..jpg
END:VEVENT

END:VCALENDAR
