BEGIN:VCALENDAR
VERSION:2.0
CALSCALE:GREGORIAN
PRODID:https://kalender.karlsruhe.de/db/termine/
METHOD:PUBLISH
BEGIN:VEVENT
UID:578131
ORGANIZER;CN=HWK Gärtnerei Grötzingen:MAILTO:gaertnerei@hwk.com
LOCATION:HWK Gärtnerei Grötzingen
SUMMARY:Adventskranz binden
DESCRIPTION;ENCODING=QUOTED-PRINTABLE:in der HWK G=C3=A4rtnerei=0D=0A=0D=0A  Gemeinsam stimmen wir uns auf die Adventszei
 t ein!    In unserem gem=C3=BCtlichen Workshop binden Sie Ihren eigenen Adv
 entskranz mit einem Durchmesser von ca. 40 cm =E2=80=93 ganz nach Ihrem Ges
 chmack und unter fachkundiger Anleitung. Ob klassisch mit Tannengr=C3=BCn u
 nd roten Kerzen oder modern mit nat=C3=BCrlichen Materialien =E2=80=93 wir 
 zeigen Ihnen Schritt f=C3=BCr Schritt\, wie Ihr ganz pers=C3=B6nlicher Adven
 tskranz entsteht.    Alle Materialien wie Kranzrohling\, Gr=C3=BCn\, Draht un
 d Deko stehen bereit. Nat=C3=BCrlich d=C3=BCrfen Sie auch gerne eigene Schm
 uckelemente mitbringen\, um Ihrem Kranz eine individuelle Note zu verleihen.
     Kosten:=C2=A079 \,=E2=80=93=E2=82=AC    Anmeldung:      Eine=C2=A0verbin
 dliche Anmeldung=C2=A0erfolgt per=C2=A0E-Mail an=C2=A0gaertnerei@hwk.com.  
     Mit Ihrer Anmeldung erkl=C3=A4ren Sie sich mit unseren Teilnahmebedingu
 ngen einverstanden. Wir danken f=C3=BCr Ihr Verst=C3=A4ndnis und freuen uns
  auf einen inspirierenden\, kreativen Workshop mit Ihnen!                 
 =20
URL:https://kalender.karlsruhe.de/db/termine/stadtleben/adventskranz_binden-2
CLASS:PUBLIC
DTSTART:20261114T110000
DTEND:20261114T140000
DTSTAMP:20260120T120029
CATEGORIES:Stadtleben
ATTACH:https://kalender.karlsruhe.de/db/termine/stadtleben/adventskranz_binden-2/file/icon_Workshop_Adventskranz.jpg
END:VEVENT

END:VCALENDAR
