BEGIN:VCALENDAR
VERSION:2.0
CALSCALE:GREGORIAN
PRODID:https://kalender.karlsruhe.de/db/termine/
METHOD:PUBLISH
BEGIN:VEVENT
UID:578327
ORGANIZER;CN=HWK Gärtnerei Grötzingen:MAILTO:gaertnerei@hwk.com
LOCATION:HWK Gärtnerei Grötzingen
SUMMARY:Adventsmarkt
DESCRIPTION;ENCODING=QUOTED-PRINTABLE:in der HWK G=C3=A4rtnerei=0D=0A=0D=0A    Was Sie erwartet:        gro=C3=9Fe Advent
 sausstellung mit vielen Anbietern      abwechslungsreiches Begleitprogramm 
      jede Menge leckeres Essen & Getr=C3=A4nke           =20
URL:https://kalender.karlsruhe.de/db/termine/stadtleben/adventsmarkt-1
CLASS:PUBLIC
DTSTART:20261113T080000
DTEND:20261114T180000
DTSTAMP:20260304T083142
CATEGORIES:Stadtleben
ATTACH:https://kalender.karlsruhe.de/db/termine/stadtleben/adventsmarkt-1/file/icon_Adventsmarkt_2026_web.jpg
END:VEVENT

END:VCALENDAR
