BEGIN:VCALENDAR
VERSION:2.0
CALSCALE:GREGORIAN
PRODID:https://kalender.karlsruhe.de/db/termine/
METHOD:PUBLISH
BEGIN:VEVENT
UID:576222
ORGANIZER;CN=HWK Gärtnerei Grötzingen:MAILTO:gaertnerei@hwk.com
LOCATION:HWK Gärtnerei Grötzingen
SUMMARY:AFTER WORK
DESCRIPTION;ENCODING=QUOTED-PRINTABLE:In der HWK G=C3=A4rtnerei=0D=0A=0D=0A
URL:https://kalender.karlsruhe.de/db/termine/stadtleben/after_work-1
CLASS:PUBLIC
DTSTART:20260710T170000
DTEND:20260710T200000
DTSTAMP:20251118T100642
CATEGORIES:Stadtleben
ATTACH:https://kalender.karlsruhe.de/db/termine/stadtleben/after_work-1/file/icon_Afterwork_Bildquelle_HWK gGmbH.jpg
END:VEVENT

END:VCALENDAR
