BEGIN:VCALENDAR
VERSION:2.0
CALSCALE:GREGORIAN
PRODID:https://kalender.karlsruhe.de/db/termine/
METHOD:PUBLISH
BEGIN:VEVENT
UID:578124
ORGANIZER;CN=HWK Gärtnerei Grötzingen:MAILTO:gaertnerei@hwk.com
LOCATION:HWK Gärtnerei Grötzingen
SUMMARY:AFTER WORK
DESCRIPTION;ENCODING=QUOTED-PRINTABLE:In der HWK G=C3=A4rtnerei=0D=0A=0D=0A
URL:https://kalender.karlsruhe.de/db/termine/stadtleben/after_work-2
CLASS:PUBLIC
DTSTART:20260925T170000
DTEND:20260925T220000
DTSTAMP:20260120T120029
CATEGORIES:Stadtleben
ATTACH:https://kalender.karlsruhe.de/db/termine/stadtleben/after_work-2/file/icon_Afterwork_Bildquelle_HWK gGmbH.jpg
END:VEVENT

END:VCALENDAR
