BEGIN:VCALENDAR
VERSION:2.0
CALSCALE:GREGORIAN
PRODID:https://kalender.karlsruhe.de/db/termine/
METHOD:PUBLISH
BEGIN:VEVENT
UID:576220
ORGANIZER;CN=HWK Gärtnerei Grötzingen:MAILTO:gaertnerei@hwk.com
LOCATION:HWK Gärtnerei Grötzingen
SUMMARY:After Work
DESCRIPTION;ENCODING=QUOTED-PRINTABLE:In der HWK G=C3=A4rtnerei=0D=0A=0D=0A
URL:https://kalender.karlsruhe.de/db/termine/stadtleben/after_work
CLASS:PUBLIC
DTSTART:20260612T170000
DTEND:20260612T200000
DTSTAMP:20251118T100631
CATEGORIES:Stadtleben
ATTACH:https://kalender.karlsruhe.de/db/termine/stadtleben/after_work/file/icon_Afterwork_Bildquelle_HWK gGmbH.jpg
END:VEVENT

END:VCALENDAR
