BEGIN:VCALENDAR
VERSION:2.0
CALSCALE:GREGORIAN
PRODID:https://kalender.karlsruhe.de/db/termine/
METHOD:PUBLISH
BEGIN:VEVENT
UID:580628
ORGANIZER;CN=TRIANGEL Transfer | Kultur | Raum:MAILTO:hello@triangel.space
LOCATION:Kinemathek 
SUMMARY:ANYMOS KI:NO SOMMER
DESCRIPTION;ENCODING=QUOTED-PRINTABLE:23. April =E2=80=93 16. Juli 2026 in der Kinemathek und auf dem Kronenplatz
 =0D=0A=0D=0A  In Zusammenarbeit mit der Kinemathek Karlsruhe laden wir dich vom 23.
  April bis 16. Juli an ausgew=C3=A4hlten Abenden dazu ein\, in die fiktive w
 ie reale Welt k=C3=BCnstlicher Intelligenz einzutauchen. Auf dich warten Sp
 ielfilme der Extraklasse\, =C3=BCber die im Anschluss mit Expertinnen und Ex
 perten diskutiert wird und dessen Inhalte auf unser gesellschaftliches Lebe
 n =C3=BCbertragen werden. Die ersten Termine finden in der Kinemathek statt
 \, woraufhin sich der Kronenplatz in den w=C3=A4rmeren Monaten in ein OPEN A
 IR KINO verwandeln wird.    Der Eintritt ist f=C3=BCr alle Kinoabende=C2=A0
 kostenlos!  =0D=0A  Eine Anmeldung oder Sitzplatzreservierung ist nicht erforde
 rlich =E2=80=93 first come\, first serve.  =0D=0A  Bei Regen findet das Kino imm
 er in der Kinemathek Karlsruhe statt. =20
URL:https://kalender.karlsruhe.de/db/termine/stadtleben/anymos_kino_sommer
CLASS:PUBLIC
DTSTART:20260423T000000
DTEND:20260716T000000
DTSTAMP:20260402T092116
CATEGORIES:Stadtleben
ATTACH:https://kalender.karlsruhe.de/db/termine/stadtleben/anymos_kino_sommer/file/icon_KINO Sommer quer ALLE Termine.jpg
END:VEVENT

END:VCALENDAR
