BEGIN:VCALENDAR
VERSION:2.0
CALSCALE:GREGORIAN
PRODID:https://kalender.karlsruhe.de/db/termine/
METHOD:PUBLISH
BEGIN:VEVENT
UID:580229
ORGANIZER;CN=Naturschutzzentrum Karlsruhe-Rappenwört:MAILTO:info@nazka.de
LOCATION:Naturschutzzentrum Karlsruhe-Rappenwört
SUMMARY:Architektur und Geschichte des Naturschutzzentrums
DESCRIPTION;ENCODING=QUOTED-PRINTABLE:F=C3=BChrung zum Tag des offenen Denkmals=0D=0A=0D=0A  In Karlsruhe gibt es neben d
 er Dammerstock-Siedlung noch weitere interessante Geb=C3=A4ude des Neuen Ba
 uens um 1929. Einige stehen in der N=C3=A4he des Rheins\, mitten in dem bere
 its 1926 konzipierten Rheinpark Rappenw=C3=B6rt.    Bei einem Rundgang durc
 hs Naturschutzzentrum erfahren Sie Details zur Architektur und Geschichte d
 es Hauses. Auf einem kurzen Spaziergang zum Rheinstrandbad wird die Konzept
 ion des Rheinparks Rappenw=C3=B6rt und weitere Architektur des Neuen Bauens
  in Karlsruhe anschaulich.      Leitung:    Nina Rind\, Kunst- und Architekt
 urhistorikerin  =0D=0A     Kosten:    kostenfrei      Anmeldung bis 11.09.26=C2
 =A0erforderlich   =20
URL:https://kalender.karlsruhe.de/db/termine/stadtleben/architektur_und_geschichte_des_naturschutzzentrums
CLASS:PUBLIC
DTSTART:20260913T110000
DTEND:20260913T123000
DTSTAMP:20260324T102234
CATEGORIES:Stadtleben
ATTACH:https://kalender.karlsruhe.de/db/termine/stadtleben/architektur_und_geschichte_des_naturschutzzentrums/file/icon_Logo Nazka 3,0 cm.jpg
END:VEVENT

END:VCALENDAR
