BEGIN:VCALENDAR
VERSION:2.0
CALSCALE:GREGORIAN
PRODID:https://kalender.karlsruhe.de/db/termine/
METHOD:PUBLISH
BEGIN:VEVENT
UID:571841
ORGANIZER;CN=Waldpädagogik (Karlsruhe):MAILTO:waldpaedagogik@fa.karlsruhe.de
LOCATION:Waldklassenzimmer
SUMMARY:Backen im Holzbackofen
DESCRIPTION;ENCODING=QUOTED-PRINTABLE:f=C3=BCr Menschen jeden Alters=0D=0A=0D=0A    Heute       backen wir gemeinsam im H
 olzbackofen      . Zu Beginn bis etwa 16 Uhr ist die Temperatur geeignet f
 =C3=BCr       Flammkuchen      . Anschlie=C3=9Fend kann man       Pizza    
   \, dann       Brot\, Br=C3=B6tchen oder Kuchen      backen - zum Mitnehmen 
 oder zum direkten Verzehr. Bitte alle Zutaten und Utensilien selbst mitbrin
 gen!            Anmeldung          bis 17. Oktober            Wir bitten um
  eine Spende          f=C3=BCr die Instandhaltung des Ofens sowie die Berei
 tstellung von Brennholz        =0D=0A   =20
URL:https://kalender.karlsruhe.de/db/termine/stadtleben/backen_im_holzbackofen-8
CLASS:PUBLIC
DTSTART:20251026T143000
DTEND:20251026T180000
DTSTAMP:20250626T100136
CATEGORIES:Stadtleben
ATTACH:https://kalender.karlsruhe.de/db/termine/stadtleben/backen_im_holzbackofen-8/file/icon_25-10-26 Kuchen aus dem Holzbackofen.jpg
END:VEVENT

END:VCALENDAR
