BEGIN:VCALENDAR
VERSION:2.0
CALSCALE:GREGORIAN
PRODID:https://kalender.karlsruhe.de/db/termine/
METHOD:PUBLISH
BEGIN:VEVENT
UID:579908
ORGANIZER;CN=Naturschutzzentrum Karlsruhe-Rappenwört:MAILTO:info@nazka.de
LOCATION:Naturschutzzentrum Karlsruhe-Rappenwört
SUMMARY:Bats for adults
DESCRIPTION;ENCODING=QUOTED-PRINTABLE:Fledermausf=C3=BChrung f=C3=BCr Erwachsene=0D=0A=0D=0A  In den Rheinauen bei Karlsr
 uhe leben 14 der 22 in Baden-W=C3=BCrttemberg vorkommenden Fledermausarten.
  Die hervorragenden Flieger sind wahre Lebensk=C3=BCnstler und in dieser ze
 itweise =C3=BCberfluteten Landschaft zweifellos die erfolgreichsten S=C3=A4
 ugetiere. W=C3=A4hrend der fr=C3=BChn=C3=A4chtlichen Exkursion werden versc
 hiedene Fledermausarten mit Detektoren geortet und beobachtet. Dazu gibt es
  viele Informationen =C3=BCber die faszinierenden J=C3=A4ger der Nacht.  =0D=0A
   =0D=0A  Bitte Taschenlampe/Stirnleuchte\, auentaugliche Schuhe\, M=C3=BCckensch
 utzmittel und =E2=80=93 sofern vorhanden =E2=80=93 Fledermausdetektor mitbr
 ingen.  =0D=0A  =0D=0A     Referent:    Harald Br=C3=BCnner (Dipl. Biologe)  =0D=0A    
  Kosten:    kostenfrei      Anmeldung bis 04.08.26=C2=A0erforderlich!   =20
URL:https://kalender.karlsruhe.de/db/termine/stadtleben/bats_for_adults-1
CLASS:PUBLIC
DTSTART:20260807T200000
DTEND:20260807T220000
DTSTAMP:20260311T083440
CATEGORIES:Stadtleben
ATTACH:https://kalender.karlsruhe.de/db/termine/stadtleben/bats_for_adults-1/file/icon_Logo Nazka 3,0 cm.jpg
END:VEVENT

END:VCALENDAR
