BEGIN:VCALENDAR
VERSION:2.0
CALSCALE:GREGORIAN
PRODID:https://kalender.karlsruhe.de/db/termine/
METHOD:PUBLISH
BEGIN:VEVENT
UID:579906
ORGANIZER;CN=Naturschutzzentrum Karlsruhe-Rappenwört:MAILTO:info@nazka.de
LOCATION:Naturschutzzentrum Karlsruhe-Rappenwört
SUMMARY:Bats for kids
DESCRIPTION;ENCODING=QUOTED-PRINTABLE:Fledermausf=C3=BChrung f=C3=BCr Familien=0D=0A=0D=0A  In den Rheinauen bei Karlsruh
 e leben 14 der 22 in Baden-W=C3=BCrttemberg vorkommenden Fledermausarten. D
 ie hervorragenden Flieger sind wahre Lebensk=C3=BCnstler und in dieser zeit
 weise =C3=BCberfluteten Landschaft zweifellos die erfolgreichsten S=C3=A4ug
 etiere. W=C3=A4hrend der fr=C3=BChn=C3=A4chtlichen Exkursion werden verschi
 edene Fledermausarten mit Detektoren geortet und beobachtet. Dazu gibt es v
 iele Informationen =C3=BCber die faszinierenden J=C3=A4ger der Nacht.  =0D=0A  
 =0D=0A  Bitte Taschenlampe/Stirnleuchte\, auentaugliche Schuhe\, M=C3=BCckenschut
 zmittel und =E2=80=93 sofern vorhanden =E2=80=93 Fledermausdetektor mitbrin
 gen.  =0D=0A  =0D=0A     Referent:    Harald Br=C3=BCnner (Dipl. Biologe)  =0D=0A     K
 osten:    kostenfrei      Anmeldung bis 28.07.26=C2=A0erforderlich!   =20
URL:https://kalender.karlsruhe.de/db/termine/stadtleben/bats_for_kids-1
CLASS:PUBLIC
DTSTART:20260731T200000
DTEND:20260731T220000
DTSTAMP:20260311T083440
CATEGORIES:Stadtleben
ATTACH:https://kalender.karlsruhe.de/db/termine/stadtleben/bats_for_kids-1/file/icon_Logo Nazka 3,0 cm.jpg
END:VEVENT

END:VCALENDAR
