BEGIN:VCALENDAR
VERSION:2.0
CALSCALE:GREGORIAN
PRODID:https://kalender.karlsruhe.de/db/termine/
METHOD:PUBLISH
BEGIN:VEVENT
UID:578667
ORGANIZER;CN=Forstamt Stadt Karlsruhe:MAILTO:waldpaedagogik@fa.karlsruhe.de
LOCATION:Spielplatz Affenplätzle
SUMMARY:Baumkunde für Einsteiger*innen: häufige Baumarten erkennen
DESCRIPTION;ENCODING=QUOTED-PRINTABLE:f=C3=BCr Erwachsene und  Jugendliche ab 14 Jahren=0D=0A=0D=0A  Den Wald vor lauter 
 B=C3=A4umen nicht sehen - wer kennt dieses Sprichwort nicht? Doch welche B
 =C3=A4ume stehen im (Ober)Wald?=C2=A0 Gemeinsam entdecken wir die Merkmale\,
  Verwendung und Geschichte verschiedener Baumarten. Ziel ist es\, nach der V
 eranstaltung=C2=A0 die Hauptbaumarten erkennen zu k=C3=B6nnen.=C2=A0 Bei di
 esem Spaziergang sind keine=C2=A0 Vorkenntnisse notwendig.      Referentin:
     Nicole Hirsch      Anmeldung    auf der Homepage     bis 11. Mai      K
 ostenlose Veranstaltung      - wir freuen uns =C3=BCber eine Spende.   =20
URL:https://kalender.karlsruhe.de/db/termine/stadtleben/baumkunde_fur_einsteigerinnen_haufige
CLASS:PUBLIC
DTSTART:20260517T143000
DTEND:20260517T163000
DTSTAMP:20260211T095703
CATEGORIES:Stadtleben
ATTACH:https://kalender.karlsruhe.de/db/termine/stadtleben/baumkunde_fur_einsteigerinnen_haufige/file/icon_26-05-14 Waldpaedagogik_KA_Baumarten_zugeschn.jpg
END:VEVENT

END:VCALENDAR
