BEGIN:VCALENDAR
VERSION:2.0
CALSCALE:GREGORIAN
PRODID:https://kalender.karlsruhe.de/db/termine/
METHOD:PUBLISH
BEGIN:VEVENT
UID:545588
ORGANIZER;CN=Marktamt der Stadt Karlsruhe:MAILTO:ma@karlsruhe.de
LOCATION:Marktplatz Karlsruhe
SUMMARY:Blumenmarkt
DESCRIPTION;ENCODING=QUOTED-PRINTABLE:t=C3=A4glich auf dem Marktplatz (an Feiertagen findet kein Wochenmarkt stat
 t)=0D=0A=0D=0A  Auf dem Blumenmarkt finden alle\, die Blumen und Pflanzen lieben\, je
 derzeit das Passende. =20
URL:https://kalender.karlsruhe.de/db/termine/stadtleben/blumenmarkt
CLASS:PUBLIC
DTSTART:20251119T090000
DTEND:20501110T180000
DTSTAMP:20251118T140703
CATEGORIES:Stadtleben
ATTACH:https://kalender.karlsruhe.de/db/termine/stadtleben/blumenmarkt/file/icon_KaMarktpl_03.jpg
END:VEVENT

END:VCALENDAR
