BEGIN:VCALENDAR
VERSION:2.0
CALSCALE:GREGORIAN
PRODID:https://kalender.karlsruhe.de/db/termine/
METHOD:PUBLISH
BEGIN:VEVENT
UID:580695
ORGANIZER;CN=Durlacher Bürgerstiftung:MAILTO:info@durlacher-buergerstiftung.de
LOCATION:Alter Friedhof bei der Nikolauskapelle Durlach
SUMMARY:Bürgerbrunch
DESCRIPTION;ENCODING=QUOTED-PRINTABLE:15. Durlacher B=C3=BCrgerbrunch=0D=0A=0D=0A  Die Durlacher B=C3=BCrgerstiftung vera
 nstaltet am 30.08.2026 =C2=A0im Alten Friedhof von 11.00 =E2=80=93       16
 .00 Uhr den beliebten 15. B=C3=BCrgerbrunch.       Neben drei lokalen Bands
  erwarten die Besucher leckere Speisen und k=C3=BChle Getr=C3=A4nke        
  durch das Catering-Team der KaGe04 Durlach.    =20
URL:https://kalender.karlsruhe.de/db/termine/stadtleben/burgerbrunch-1
CLASS:PUBLIC
DTSTART:20260830T190000
DTEND:20260830T214500
DTSTAMP:20260409T113242
CATEGORIES:Stadtleben
ATTACH:https://kalender.karlsruhe.de/db/termine/stadtleben/burgerbrunch-1/file/icon_banner-buergerbrunch2026-3.jpg
END:VEVENT

END:VCALENDAR
