BEGIN:VCALENDAR
VERSION:2.0
CALSCALE:GREGORIAN
PRODID:https://kalender.karlsruhe.de/db/termine/
METHOD:PUBLISH
BEGIN:VEVENT
UID:577729
ORGANIZER;CN=Veranstaltungsagentur Hochstatter:MAILTO:info@flohmarkt-ka.de
LOCATION:Stephanplatz
SUMMARY:City-Flohmarkt
DESCRIPTION;ENCODING=QUOTED-PRINTABLE:Der Markt f=C3=BCr Sammler und Liebhaber ...=0D=0A=0D=0A  ... direkt in der Karlsru
 her Innenstadt.    Wer seinen Dachboden oder Keller durchst=C3=B6bert und s
 eine Entdeckungen zu Geld machen will\, ist hier genau richtig.    =0D=0A =20
URL:https://kalender.karlsruhe.de/db/termine/stadtleben/city_flohmarkt-13
CLASS:PUBLIC
DTSTART:20260606T080000
DTEND:20260606T150000
DTSTAMP:20260108T102614
CATEGORIES:Stadtleben
ATTACH:https://kalender.karlsruhe.de/db/termine/stadtleben/city_flohmarkt-13/file/icon_Depositphotos_53397655_xl-2015.jpg
END:VEVENT

END:VCALENDAR
