BEGIN:VCALENDAR
VERSION:2.0
CALSCALE:GREGORIAN
PRODID:https://kalender.karlsruhe.de/db/termine/
METHOD:PUBLISH
BEGIN:VEVENT
UID:581064
ORGANIZER;CN=Critical Mass Karlsruhe:MAILTO:
LOCATION:Kronenplatz
SUMMARY:Critical Mass
DESCRIPTION;ENCODING=QUOTED-PRINTABLE:Critical Mass am Freitag\, 24.04.2026=0D=0A=0D=0A  Im M=C3=A4rz sind 158 Menschen im
  Rahmen der Critical Mass ganz spritkostenfrei durch die Stadt gefahren.  F
 =C3=BCr den n=C3=A4chsten Termin am Freitag\, den 24. April\, werden noch deu
 tlich mehr Menschen um 18 Uhr am Kronenplatz erwartet (200+). Auch  wenn di
 e Critical Mass in jedem Monat am letzten Freitag ihre Runden  dreht\, macht
  es bei Sonne und w=C3=A4rmeren Temperaturen noch einmal mehr  Spa=C3=9F\,  
 im gro=C3=9Fen Verband durch die Stadt zu radeln. Dabei soll durch die "kri
 tische Masse" der Radverkehr sichtbar werden.    Die ca. 17 km lange Tour f
 =C3=BChrt =C3=BCber M=C3=BChlburg nach Knielingen und =C3=BCber die bei Ber
 ufspendlern beliebte Strecke nach Neureut. Zwischen diesen beiden  Stadttei
 len pendelt laut der letzten B=C3=BCrgerumfrage der Stadtverwaltung  ein un
 gew=C3=B6hnlich hoher Anteil mit dem Auto statt mit dem Fahrrad\, wenn man e
 s mit anderen Verkehrsbeziehungen innerhalb der Stadtgrenze vergleicht. F
 =C3=BCr Autos gibt es  bereits gute Stra=C3=9Fen (B36) und es kommen weiter
 e dazu\, aber die Radwege  sind oft =C3=BCber Umwege gef=C3=BChrt oder - wie
  in der Sudetenstra=C3=9Fe - schlicht  vergessen worden. Dabei  w=C3=A4re e
 ine gute Radinfrastruktur gerade in Zeiten steigender Spritkosten  die Vora
 ussetzung f=C3=BCr viele\, das Auto stehen zu lassen und auf das Rad  umzust
 eigen.    Achtung: Ausnahmsweise f=C3=BChrt die Route =C3=BCber eine Kraftf
 ahrstra=C3=9Fe (B36)!    Die Critical Mass Karlsruhe f=C3=A4hrt immer am le
 tzten Freitag des  Monats gegen 18 Uhr am Kronenplatz los zu einer Tour dur
 ch die Stadt\, um  Radverkehr sichtbarer zu machen. Die Kidical Mass Familie
 n-Fahrraddemo startet am Sonntag\, 3. Mai um 15 Uhr ebenfalls am Kronenplatz
 . Informationen dazu und auch zu anderen Veranstaltungen wie dem "Ride of S
 ilence" sind auf=C2=A0www.cm-ka.de zu finden.    Strecke: Kronenplatz\, Frit
 z-Erler-Stra=C3=9Fe\, Kriegsstra=C3=9Fe bis Ritterstra=C3=9Fe\, Karoline-Luis
 e-Tunnel (Karlstor-Unterf=C3=BChrung)\, Kriegsstra=C3=9Fe\, Reinhold-Frank-St
 ra=C3=9Fe\, Kaiserallee\, Rheinstra=C3=9Fe\, Am Entenfang\, Lameystra=C3=9Fe\, R
 heinstra=C3=9Fe\, Rheinbr=C3=BCckenstra=C3=9Fe\, Sudetenstra=C3=9Fe\, Heckerst
 ra=C3=9Fe\, Herweghstra=C3=9Fe\, Pionierstra=C3=9Fe\, Sudetenstra=C3=9Fe\, B 36
  bis AS Neureut-S=C3=BCd\, Welschneureter Stra=C3=9Fe\, Klammweg\, Am Wald\, Bo
 cksdornweg\, Willy-Brandt-Allee\, Moltkestra=C3=9Fe\,W=C3=B6rthstra=C3=9Fe\, St
 ephanienstra=C3=9Fe\, Reinhold-Frank-Stra=C3=9Fe\, Brauerstra=C3=9Fe\, Platz d
 er Menschenrechte    Das Ende der Versammlung ist auf dem Platz der Mensche
 nrechte zwischen Bundesanwaltschaft und Filmpalast am ZKM. Das Fahrradb=C3
 =BCro ist anschlie=C3=9Fend ge=C3=B6ffnet f=C3=BCr eine inoffizielle "After
  Mass".    L=C3=A4nge: 17\,6 km =C2=A0 Navigation: =C2=A0 https://brouter.de
 /brouter-web/#map=3D18/49.00050/8.38647/standard&lonlats=3D8.409768\,49.0078
 52\;8.378478\,49.010864\;8.366381\,49.011414\;8.354676\,49.014678\;8.344555\,49.027
 363\;8.352658\,49.036431\;8.369675\,49.047157\;8.395432\,49.030815\;8.397269\,49.01
 4233\;8.390822\,49.011179\;8.38609\,49.00106&nogos=3D8.424245\,48.99528\,67\;8.344
 96\,49.030752\,18&profile=3Dcar-eco =20
URL:https://kalender.karlsruhe.de/db/termine/stadtleben/critical_mass-4
CLASS:PUBLIC
DTSTART:20260424T180000
DTEND:20260424T200000
DTSTAMP:20260420T110613
CATEGORIES:Stadtleben
ATTACH:https://kalender.karlsruhe.de/db/termine/stadtleben/critical_mass-4/file/icon_cm_Karlsruhe_Logo.jpg
END:VEVENT

END:VCALENDAR
