BEGIN:VCALENDAR
VERSION:2.0
CALSCALE:GREGORIAN
PRODID:https://kalender.karlsruhe.de/db/termine/
METHOD:PUBLISH
BEGIN:VEVENT
UID:580128
ORGANIZER;CN=Naturschutzzentrum Karlsruhe-Rappenwört:MAILTO:info@nazka.de
LOCATION:Naturschutzzentrum Karlsruhe-Rappenwört
SUMMARY:Dein Naturtagebuch
DESCRIPTION;ENCODING=QUOTED-PRINTABLE:Ferienprogramm f=C3=BCr Kinder von 7 bis 12 Jahren=0D=0A=0D=0A    =0D=0A        Erlebe 
 die Natur mit allen Sinnen und lege dir dein pers=C3=B6nliches Naturtagebuc
 h an.   =0D=0A    Gemeinsam erkunden wir die Natur auf kreative Weise und folge
 n unserer Neugierde. Unsere Entdeckungen halten wir mit Stift und Papier fe
 st. Dabei wirst du lernen\, wie du dir dein eigenes Naturtagebuch (oder: Nat
 ure Journal) anlegen kannst. Die Natur steckt voller spannender Details\, di
 e darauf warten von dir entdeckt zu werden.  =0D=0A  Hinweis: Es geht nicht dar
 um perfekte Zeichnungen anzufertigen. Im Vordergrund stehen die eigenen Beo
 bachtungen und Wahrnehmungen\, welche einen Weg ins Naturtagebuch finden sol
 len.  =0D=0A  Gerne kannst Du deine eigenen Stifte mitbringen und denke an wett
 erangepasste Kleidung und ein Vesper.      Leitung    : Emilia Bauer\, Umwel
 t- und Wildnisp=C3=A4dagogin  =0D=0A     Kosten:    50 =E2=82=AC/Kind  =0D=0A     A
 nmeldung und Vorab=C3=BCberweisung der Teilnahmegeb=C3=BChr=C2=A0bis 28.08.
 2026=C2=A0erforderlich.   =20
URL:https://kalender.karlsruhe.de/db/termine/stadtleben/dein_naturtagebuch-2
CLASS:PUBLIC
DTSTART:20260907T093000
DTEND:20260908T133000
DTSTAMP:20260402T092314
CATEGORIES:Stadtleben
ATTACH:https://kalender.karlsruhe.de/db/termine/stadtleben/dein_naturtagebuch-2/file/icon_Nature Journaling.jpg
END:VEVENT

END:VCALENDAR
