BEGIN:VCALENDAR
VERSION:2.0
CALSCALE:GREGORIAN
PRODID:https://kalender.karlsruhe.de/db/termine/
METHOD:PUBLISH
BEGIN:VEVENT
UID:580631
ORGANIZER;CN=TRIANGEL Transfer | Kultur | Raum:MAILTO:hello@triangel.space
LOCATION:TRIANGEL Transfer | Kultur | Raum
SUMMARY:Demokradienstag | Youth Decide
DESCRIPTION;ENCODING=QUOTED-PRINTABLE:Jugend und Demokratie zwischen Parlament und Stra=C3=9Fe Sind junge Mensche
 n wirklich politikverdrossen oder eher entt=C3=A4uscht vom Parlamentarismus
 ?=0D=0A=0D=0A    Welche Rolle spielt Protest f=C3=BCr demokratische Prozesse? Und w
 as braucht es\, damit junge Menschen mehr Einfluss auf Politik nehmen k=C3
 =B6nnen? =C3=9Cber diese Fragen wollen wir gemeinsam mit Vertretenden des P
 rojekts Youth Decide sowie weiteren Expertinnen und Experten diskutieren.An
  drei Demokradienstagen wollen wir uns im TRIANGEL auf die Tage der Demokra
 tie 2026 vorbereiten. Am 24. Februar\, 21. April und 16. Juni setzen wir uns
  gemeinsam mit Fragen der KI im Umgang mit Psyche auseinander\, besch=C3=A4f
 tigen uns mit den Gedanken von Jugendlichen und jungen Erwachsenen =C3=BCbe
 r die Gesellschaft von morgen und betrachten die aktuelle Lage in Deutschla
 nd als Einwanderungsland im Umbruch.   =20
URL:https://kalender.karlsruhe.de/db/termine/stadtleben/demokradienstag_youth_decide
CLASS:PUBLIC
DTSTART:20260421T180000
DTEND:20260421T220000
DTSTAMP:20260402T092116
CATEGORIES:Stadtleben
ATTACH:https://kalender.karlsruhe.de/db/termine/stadtleben/demokradienstag_youth_decide/file/icon_Demokradienstag zweiter Termin.jpg
END:VEVENT

END:VCALENDAR
