BEGIN:VCALENDAR
VERSION:2.0
CALSCALE:GREGORIAN
PRODID:https://kalender.karlsruhe.de/db/termine/
METHOD:PUBLISH
BEGIN:VEVENT
UID:579783
ORGANIZER;CN=Internationales Begegnungszentrum Karlsruhe e.V.:MAILTO:
LOCATION:Internationales Begegnungszentrum Karlsruhe e.V. (ibz)
SUMMARY:Demokratie unter Druck? Europas Antworten
DESCRIPTION;ENCODING=QUOTED-PRINTABLE:Im Gespr=C3=A4ch zum Europatag mit Prof. Dr. Ren=C3=A9 Repasi\, Vorsitzender
  der SPD im Europ=C3=A4ischen Parlament=0D=0A=0D=0A
URL:https://kalender.karlsruhe.de/db/termine/stadtleben/demokratie_unter_druck_europas_antworten
CLASS:PUBLIC
DTSTART:20260507T190000
DTEND:20260507T203000
DTSTAMP:20260323T091003
CATEGORIES:Stadtleben
ATTACH:https://kalender.karlsruhe.de/db/termine/stadtleben/demokratie_unter_druck_europas_antworten/file/icon_Instagram 07.05.jpg
END:VEVENT

END:VCALENDAR
