BEGIN:VCALENDAR
VERSION:2.0
CALSCALE:GREGORIAN
PRODID:https://kalender.karlsruhe.de/db/termine/
METHOD:PUBLISH
BEGIN:VEVENT
UID:580236
ORGANIZER;CN=Naturschutzzentrum Karlsruhe-Rappenwört:MAILTO:info@nazka.de
LOCATION:Naturschutzzentrum Karlsruhe-Rappenwört
SUMMARY:Den Pilzen auf der Spur
DESCRIPTION;ENCODING=QUOTED-PRINTABLE:Ab 12 Jahren=0D=0A=0D=0A  Wenn im Herbst =C3=BCberall pl=C3=B6tzlich die Fruchtk=C3
 =B6rper der Pilze   aus dem Boden schie=C3=9Fen\, ist es endlich wieder Pilz
 e-Zeit. Hast du dann auch   schon =C3=BCber ihre tollen Farben und vielf=C3
 =A4ltigen Formen gestaunt? Sammelst du   vielleicht sogar Pilze aber m=C3
 =B6chtest gerne noch mehr =C3=BCber sie erfahren?    In dem Workshop taucht
  ihr gemeinsam mit dem Pilz-Coach   Martin in das faszinierende Reich der P
 ilze ein und erkundet\, was Pilze   eigentlich sind\, wie sie leben\, sich ern
 =C3=A4hren und welche vielf=C3=A4ltigen   Beziehungen sie mit Pflanzen\, Tie
 ren und ihrer Umgebung eingehen.         Leitung:    Martin   Seeger\, Natur
 - und Wildnisp=C3=A4dagoge\, Pilzcoach  =0D=0A     Kosten:    22 =E2=82=AC / Per
 son\, unter 14 Jahren 12 =E2=82=AC /Person =20
URL:https://kalender.karlsruhe.de/db/termine/stadtleben/den_pilzen_auf_der_spur
CLASS:PUBLIC
DTSTART:20261003T110000
DTEND:20261003T150000
DTSTAMP:20260324T102234
CATEGORIES:Stadtleben
ATTACH:https://kalender.karlsruhe.de/db/termine/stadtleben/den_pilzen_auf_der_spur/file/icon_Logo Nazka 3,0 cm.jpg
END:VEVENT

END:VCALENDAR
