BEGIN:VCALENDAR
VERSION:2.0
CALSCALE:GREGORIAN
PRODID:https://kalender.karlsruhe.de/db/termine/
METHOD:PUBLISH
BEGIN:VEVENT
UID:578934
ORGANIZER;CN=Team Sauberes Karlsruhe (TSK):MAILTO:tsk@karlsruhe.de
LOCATION:Stadtgebiet Karlsruhe
SUMMARY:Dreck-weg-Wochen
DESCRIPTION;ENCODING=QUOTED-PRINTABLE:Ran an die Zange\, weg mit dem Dreck\, Preise gewinnen - f=C3=BCr mein sauber
 es Karlsruhe!=0D=0A=0D=0A  Von Montag\, 16. M=C3=A4rz\, bis Donnerstag\, 30. April 202
 6\, ist es wieder soweit: Gemeinsam mit engagierten Karlsruherinnen und Karl
 sruhern m=C3=B6chte das TSK die Stadt sauberer machen. Interessierte k=C3
 =B6nnen sich ab sofort unter der Telefonnummer 0721 133-7099 sowie im Inter
 net unter www.team-sauberes-karlsruhe.de anmelden\, um beim gemeinsamen Fr
 =C3=BChjahrsputz mit anzupacken und ein sichtbares Zeichen f=C3=BCr Zusamme
 nhalt und Verantwortungsbewusstsein zu setzen.    Die Dreck-weg-Wochen\, die
  jedes Fr=C3=BChjahr vom Team Sauberes Karlsruhe (TSK) organisiert wird\, er
 freut sich immer gr=C3=B6=C3=9Ferer Beliebtheit seitens der Karlsruher Bev
 =C3=B6lkerung. Dem gro=C3=9Fen Engagement der teilnehmenden Kinderg=C3=A4rt
 en\, Schulen\, Vereinen\, Firmen sowie B=C3=BCrgerinnen und B=C3=BCrgern ist e
 s zu verdanken\, dass die Dreck-weg-Wochen ihr 20-j=C3=A4hriges Jubil=C3=A4u
 m feiern k=C3=B6nnen.    =0D=0A =20
URL:https://kalender.karlsruhe.de/db/termine/stadtleben/dreck_weg_wochen
CLASS:PUBLIC
DTSTART:20260316T000000
DTEND:20260430T000000
DTSTAMP:20260309T091913
CATEGORIES:Stadtleben
ATTACH:https://kalender.karlsruhe.de/db/termine/stadtleben/dreck_weg_wochen/file/icon_Dreck-weg-Wochen_Startseite.jpg
END:VEVENT

END:VCALENDAR
