BEGIN:VCALENDAR
VERSION:2.0
CALSCALE:GREGORIAN
PRODID:https://kalender.karlsruhe.de/db/termine/
METHOD:PUBLISH
BEGIN:VEVENT
UID:580623
ORGANIZER;CN=Arbeitsgemeinschaft Durlacher und Auer Vereine e.V. (ARGE):MAILTO:info@arge-durlach.de
LOCATION:Durlacher Innenstadt
SUMMARY:Durlacher Altstadtfest
DESCRIPTION;ENCODING=QUOTED-PRINTABLE:48. Durlacher Altstadtfest=0D=0A=0D=0A  Durlach versteht es\, zu feiern!    Das zeig
 t sich jedes Jahr aufs Neue\, wenn sich die Durlacher Altstadt an einem Juli
 wochenende mit Menschen aus der gesamten Region f=C3=BCllt.    Schon zum 48
 . Mal laden die =C3=B6rtlichen Vereine und Organisatoren zu unserem beliebt
 en Altstadtfest ein. Das Durlacher Altstadtfest startet am Freitag\, 3. Juli
  2026\, um 17 Uhr\, mit dem traditionellen Fassanstich vor dem Durlacher Rath
 aus.    Mit gro=C3=9Fem Engagement und Arbeitseinsatz haben zahlreiche Vere
 ine und Organisationen wieder ein breit gef=C3=A4chertes Programm zusammeng
 estellt\, das an allen zwei Veranstaltungstagen f=C3=BCr beste Unterhaltung 
 sorgen wird. =20
URL:https://kalender.karlsruhe.de/db/termine/stadtleben/durlacher_altstadtfest-1
CLASS:PUBLIC
DTSTART:20260703T170000
DTEND:20260705T020000
DTSTAMP:20260402T092331
CATEGORIES:Stadtleben
ATTACH:https://kalender.karlsruhe.de/db/termine/stadtleben/durlacher_altstadtfest-1/file/icon_image00001.jpg
END:VEVENT

END:VCALENDAR
