BEGIN:VCALENDAR
VERSION:2.0
CALSCALE:GREGORIAN
PRODID:https://kalender.karlsruhe.de/db/termine/
METHOD:PUBLISH
BEGIN:VEVENT
UID:580685
ORGANIZER;CN=Stadtamt Durlach & OrgelFabrik Kultur in Durlach e V.:MAILTO:
LOCATION:Schlossgarten Durlach
SUMMARY:Durlacher Kultursommer
DESCRIPTION;ENCODING=QUOTED-PRINTABLE:Konzert -=0D=0A=0D=0A  "Cherrys Band"\, das sind wir\, die Pia (Gesang und Percussion
 )\, der Otto (Gitarre und Gesang) und der Harald (Bass). Uns gibt's jetzt se
 it 50 Jahren. Zuvor in den 60ern ging's los als     Absent-Minded-Beat-Band
     mit Auftritten in so ziemlich allen Live-Musik-Kneipen der Region. Im J
 ahr 1976 wurde daraus die "Cherry's Band"\, im Fokus Folk und deutsche Liede
 r mit literarischen Inhalten. Heute machen wir wieder den Beat und Rhythm &
  Blues der fr=C3=BChen Jahre\, nicht mehr ganz so heftig\, aber echt wie ehed
 em =E2=80=93 und mit viel Spa=C3=9F dabei\, besonders im Durlacher Schlossga
 rten: The Beat goes on. =20
URL:https://kalender.karlsruhe.de/db/termine/stadtleben/durlacher_kultursommer-10
CLASS:PUBLIC
DTSTART:20260814T190000
DTEND:20260814T214500
DTSTAMP:20260409T112754
CATEGORIES:Stadtleben
ATTACH:https://kalender.karlsruhe.de/db/termine/stadtleben/durlacher_kultursommer-10/file/icon_Cherry!s Band Kultursommer 26.jpg
END:VEVENT

END:VCALENDAR
