BEGIN:VCALENDAR
VERSION:2.0
CALSCALE:GREGORIAN
PRODID:https://kalender.karlsruhe.de/db/termine/
METHOD:PUBLISH
BEGIN:VEVENT
UID:580686
ORGANIZER;CN=Stadtamt Durlach & OrgelFabrik Kultur in Durlach e V.:MAILTO:
LOCATION:Schlossgarten Durlach
SUMMARY:Durlacher Kultursommer
DESCRIPTION;ENCODING=QUOTED-PRINTABLE:M=C3=A4rchenspiel=0D=0A=0D=0A  M=C3=A4rchenSpiel f=C3=BCr kleine und gro=C3=9Fe Kin
 der    Marla Saris taucht die altbekannten Geschichten von tapferen       S
 chneidern & Co in ein neues Licht. Dabei schl=C3=BCpft sie in die       ver
 schiedensten Rollen und Gew=C3=A4nder. Bei ihr kommt sogar       ein Schutz
 engel zu Wort\; und dann sorgen auch noch die       beiden Handpuppen Coco u
 nd RatzFatz f=C3=BCr witzige         Wendungen. Ein M=C3=A4rchenspa=C3=9F f
 =C3=BCr die ganze Familie!    =20
URL:https://kalender.karlsruhe.de/db/termine/stadtleben/durlacher_kultursommer-11
CLASS:PUBLIC
DTSTART:20260816T150000
DTEND:20260816T163000
DTSTAMP:20260409T112812
CATEGORIES:Stadtleben
ATTACH:https://kalender.karlsruhe.de/db/termine/stadtleben/durlacher_kultursommer-11/file/icon_Marla Saris B.jpg
END:VEVENT

END:VCALENDAR
