BEGIN:VCALENDAR
VERSION:2.0
CALSCALE:GREGORIAN
PRODID:https://kalender.karlsruhe.de/db/termine/
METHOD:PUBLISH
BEGIN:VEVENT
UID:580687
ORGANIZER;CN=Stadtamt Durlach & OrgelFabrik Kultur in Durlach e V.:MAILTO:
LOCATION:Schlossgarten Durlach
SUMMARY:Durlacher Kultursommer
DESCRIPTION;ENCODING=QUOTED-PRINTABLE:Lesung und Songs=0D=0A=0D=0A  Die Dichterin und Songwriterin Dunja Hofheinz und der
  Cellist Vasily Bystroff nehmen die Zuh=C3=B6renden auf eine magische Reise
 . Eigene Gedichte aus dem Band =C2=A0=E2=80=9EDer Liebe wegen=E2=80=9C unte
 rlegt mit Cello-Kl=C3=A4ngen\, ber=C3=BChren die Seele und laden zum Tr=C3
 =A4umen ein. =20
URL:https://kalender.karlsruhe.de/db/termine/stadtleben/durlacher_kultursommer-12
CLASS:PUBLIC
DTSTART:20260816T190000
DTEND:20260816T214500
DTSTAMP:20260409T112708
CATEGORIES:Stadtleben
ATTACH:https://kalender.karlsruhe.de/db/termine/stadtleben/durlacher_kultursommer-12/file/icon_20260330_003424.jpg
END:VEVENT

END:VCALENDAR
