BEGIN:VCALENDAR
VERSION:2.0
CALSCALE:GREGORIAN
PRODID:https://kalender.karlsruhe.de/db/termine/
METHOD:PUBLISH
BEGIN:VEVENT
UID:580688
ORGANIZER;CN=Stadtamt Durlach & OrgelFabrik Kultur in Durlach e V.:MAILTO:
LOCATION:Alter Friedhof bei der Nikolauskapelle Durlach
SUMMARY:Durlacher Kultursommer
DESCRIPTION;ENCODING=QUOTED-PRINTABLE:Konzert=0D=0A=0D=0A  NOTASIS =E2=80=93 The German Oasis Tribute Show       Authenti
 sch\, roh und voller Energie bringen die f=C3=BCnf Musiker den Soundtrack ih
 rer Jugend zur=C3=BCck auf die B=C3=BChne. Oasis pr=C3=A4gten seit Mitte de
 r 90er den Britpop wie kaum eine andere Band =E2=80=93 bis der Gallagher=E2
 =80=91Bruderkrieg 2009 alles stoppte und 2025 die Reunion stattfand.       
   NOTASIS l=C3=A4sst genau diese =C3=84ra wieder auferstehen: 1996=E2=80=91
 Vibes\, Boardwalk=E2=80=91Club Feeling\, pure Gitarrenpower ohne Schnickschna
 ck. Ein mitrei=C3=9Fendes =E2=80=9EBest of Oasis=E2=80=9C aus Hits\, B=E2=80
 =91Seiten\, Rarit=C3=A4ten und Original=E2=80=91Covers =E2=80=93 detailgetre
 u\, roh und echt. Britpop wie damals.    =20
URL:https://kalender.karlsruhe.de/db/termine/stadtleben/durlacher_kultursommer-13
CLASS:PUBLIC
DTSTART:20260820T190000
DTEND:20260820T214500
DTSTAMP:20260409T112913
CATEGORIES:Stadtleben
ATTACH:https://kalender.karlsruhe.de/db/termine/stadtleben/durlacher_kultursommer-13/file/icon_Bild (2).jpg
END:VEVENT

END:VCALENDAR
