BEGIN:VCALENDAR
VERSION:2.0
CALSCALE:GREGORIAN
PRODID:https://kalender.karlsruhe.de/db/termine/
METHOD:PUBLISH
BEGIN:VEVENT
UID:580689
ORGANIZER;CN=Stadtamt Durlach & OrgelFabrik Kultur in Durlach e V.:MAILTO:
LOCATION:Alter Friedhof bei der Nikolauskapelle Durlach
SUMMARY:Durlacher Kultursommer
DESCRIPTION;ENCODING=QUOTED-PRINTABLE:Konzert - Andy Wilsing=0D=0A=0D=0A  Andy Wilsing =E2=80=93 Acoustic Pop & Rock mit 
 markanter Stimme und versierter Westerngitarre Andy Wilsing ist Eventmusike
 r\, Hochzeitsmusiker und Singer/Songwriter. Live =C3=BCberzeugt er mit marka
 nter Stimme und versiertem Westerngitarrenspiel\, bespickt mit windigen Pick
 ings und perkussiven Elementen. Sein Programm umfasst ein breites Repertoir
 e an Pop- und Rock-Covers der 80er\, 90er und 00er Jahre bis zu aktuellen Ch
 artbreakern. Dazu webt er gerne seine ganz besonderen Eigenkompositionen ei
 n. Seine Rockballade "Silent Chords" schaffte es unl=C3=A4ngst in die Playl
 ist von SWR1.    Website: www.andywilsing.de =20
URL:https://kalender.karlsruhe.de/db/termine/stadtleben/durlacher_kultursommer-14
CLASS:PUBLIC
DTSTART:20260821T190000
DTEND:20260821T214500
DTSTAMP:20260409T112718
CATEGORIES:Stadtleben
ATTACH:https://kalender.karlsruhe.de/db/termine/stadtleben/durlacher_kultursommer-14/file/icon_Andy Wilsing (1).jpg
END:VEVENT

END:VCALENDAR
