BEGIN:VCALENDAR
VERSION:2.0
CALSCALE:GREGORIAN
PRODID:https://kalender.karlsruhe.de/db/termine/
METHOD:PUBLISH
BEGIN:VEVENT
UID:580690
ORGANIZER;CN=Stadtamt Durlach & OrgelFabrik Kultur in Durlach e V.:MAILTO:
LOCATION:Alter Friedhof bei der Nikolauskapelle Durlach
SUMMARY:Durlacher Kultursommer
DESCRIPTION;ENCODING=QUOTED-PRINTABLE:Konzert - Blue Light=0D=0A=0D=0A  BlueLight=C2=A0=C2=A0=C2=A0=C2=A0 =E2=80=A6smooth
  - groove and funky music=E2=80=A6       Songs in eigenen Arrangements\, mal
  laut\, mal leise\, handgemacht groovig mitrei=C3=9Fend\, tanzbar\, ber=C3=BChr
 end.=C2=A0=C2=A0 F=C3=BCnf erfahrene Musiker aus der Karlsruher Musikszene 
 interpretieren Klassiker\, Standards und Fundst=C3=BCcke aus Pop\, Rock\, Jazz
  und Soul im individuellen Gewand\, ideenreich\, spontan und =C3=BCberraschen
 d\,       Das Line-up besteht aus:    Hiltrud Kl=C3=B6ter=C2=A0=C2=A0=C2=A0
 =C2=A0=C2=A0=C2=A0=C2=A0=C2=A0=C2=A0=C2=A0 vocal    Tony Mahl=C2=A0=C2=A0
 =C2=A0=C2=A0=C2=A0=C2=A0=C2=A0=C2=A0=C2=A0=C2=A0=C2=A0=C2=A0=C2=A0=C2=A0=C2
 =A0 =C2=A0orgel/piano    Michael Meyer=C2=A0=C2=A0=C2=A0=C2=A0=C2=A0=C2=A0 
 =C2=A0=C2=A0gitarre/vocal    Rudi Metzler=C2=A0=C2=A0=C2=A0=C2=A0=C2=A0=C2
 =A0=C2=A0=C2=A0=C2=A0=C2=A0=C2=A0=C2=A0 drums    Ralf Wetzel=C2=A0=C2=A0=C2
 =A0=C2=A0=C2=A0=C2=A0=C2=A0=C2=A0=C2=A0=C2=A0=C2=A0=C2=A0=C2=A0 =C2=A0bass/
 vocal  =0D=0A =20
URL:https://kalender.karlsruhe.de/db/termine/stadtleben/durlacher_kultursommer-15
CLASS:PUBLIC
DTSTART:20260822T190000
DTEND:20260822T214500
DTSTAMP:20260409T112901
CATEGORIES:Stadtleben
ATTACH:https://kalender.karlsruhe.de/db/termine/stadtleben/durlacher_kultursommer-15/file/icon_collage ohne Text.jpg
END:VEVENT

END:VCALENDAR
