BEGIN:VCALENDAR
VERSION:2.0
CALSCALE:GREGORIAN
PRODID:https://kalender.karlsruhe.de/db/termine/
METHOD:PUBLISH
BEGIN:VEVENT
UID:580691
ORGANIZER;CN=Stadtamt Durlach & OrgelFabrik Kultur in Durlach e V.:MAILTO:
LOCATION:Alter Friedhof bei der Nikolauskapelle Durlach
SUMMARY:Durlacher Kultursommer
DESCRIPTION;ENCODING=QUOTED-PRINTABLE:Konzert - Give me 5ive=0D=0A=0D=0A  Vier Musiker\, ein Sound =E2=80=93 maximale Ener
 gie auf der B=C3=BChne.       Give me 5ive stehen f=C3=BCr druckvollen Live
 -Rock\, der direkt ins Herz und in die Beine geht.       Die Band nimmt dich
  mit auf eine Reise durch f=C3=BCnf Jahrzehnte Pop- und Rockgeschichte =E2
 =80=93 von den 70ern bis zu den aktuellen Charts.       Deutschrock trifft 
 auf internationale Hymnen\, Klassiker auf moderne Hits =E2=80=93 mit einem S
 ound\, der knallt\, groovt und mitrei=C3=9Ft.       Ansteckende Energie\, gren
 zenlose Spielfreude =E2=80=93 und ein Publikum\, das mehr will.         Kein
 e Brise. Kein Sturm.  =0D=0A  Give me 5ive sind der Orkan.  =0D=0A  Live-Rock ohne 
 Kompromisse.    =20
URL:https://kalender.karlsruhe.de/db/termine/stadtleben/durlacher_kultursommer-16
CLASS:PUBLIC
DTSTART:20260823T190000
DTEND:20260823T214500
DTSTAMP:20260409T112936
CATEGORIES:Stadtleben
ATTACH:https://kalender.karlsruhe.de/db/termine/stadtleben/durlacher_kultursommer-16/file/icon_Bandbild Give me 5ive 2026.jpg
END:VEVENT

END:VCALENDAR
