BEGIN:VCALENDAR
VERSION:2.0
CALSCALE:GREGORIAN
PRODID:https://kalender.karlsruhe.de/db/termine/
METHOD:PUBLISH
BEGIN:VEVENT
UID:580692
ORGANIZER;CN=Stadtamt Durlach & OrgelFabrik Kultur in Durlach e V.:MAILTO:
LOCATION:Alter Friedhof bei der Nikolauskapelle Durlach
SUMMARY:Durlacher Kultursommer
DESCRIPTION;ENCODING=QUOTED-PRINTABLE:Konzert - The Boosters=0D=0A=0D=0A  THE BOOSTERS aus Karlsruhe =E2=80=93 authentisc
 her Rock'n'Roll aus der Zeit von Mitte der 50er bis    Anfang der 60er und 
 ein paar Extras\, von den Urspr=C3=BCngen bis in die neuere Zeit. So wie es 
 war    und bleiben muss: aus dem Bauch herausgespielt\, eine Portion Rebelli
 on\, verr=C3=BCckt und vor allem    Spa=C3=9F. Mehr als ein Trio braucht es 
 nicht f=C3=BCr mitrei=C3=9Fenden Sound. =20
URL:https://kalender.karlsruhe.de/db/termine/stadtleben/durlacher_kultursommer-17
CLASS:PUBLIC
DTSTART:20260827T190000
DTEND:20260827T214500
DTSTAMP:20260409T112953
CATEGORIES:Stadtleben
ATTACH:https://kalender.karlsruhe.de/db/termine/stadtleben/durlacher_kultursommer-17/file/icon_Kultursommer Bild.jpg
END:VEVENT

END:VCALENDAR
